BEGIN:VCALENDAR
VERSION:2.0
PRODID:-//The River Shack - ECPv6.15.20//NONSGML v1.0//EN
CALSCALE:GREGORIAN
METHOD:PUBLISH
X-WR-CALNAME:The River Shack
X-ORIGINAL-URL:https://wellwoodcrabs.com
X-WR-CALDESC:Events for The River Shack
REFRESH-INTERVAL;VALUE=DURATION:PT1H
X-Robots-Tag:noindex
X-PUBLISHED-TTL:PT1H
BEGIN:VTIMEZONE
TZID:America/New_York
BEGIN:DAYLIGHT
TZOFFSETFROM:-0500
TZOFFSETTO:-0400
TZNAME:EDT
DTSTART:20200308T070000
END:DAYLIGHT
BEGIN:STANDARD
TZOFFSETFROM:-0400
TZOFFSETTO:-0500
TZNAME:EST
DTSTART:20201101T060000
END:STANDARD
BEGIN:DAYLIGHT
TZOFFSETFROM:-0500
TZOFFSETTO:-0400
TZNAME:EDT
DTSTART:20210314T070000
END:DAYLIGHT
BEGIN:STANDARD
TZOFFSETFROM:-0400
TZOFFSETTO:-0500
TZNAME:EST
DTSTART:20211107T060000
END:STANDARD
BEGIN:DAYLIGHT
TZOFFSETFROM:-0500
TZOFFSETTO:-0400
TZNAME:EDT
DTSTART:20220313T070000
END:DAYLIGHT
BEGIN:STANDARD
TZOFFSETFROM:-0400
TZOFFSETTO:-0500
TZNAME:EST
DTSTART:20221106T060000
END:STANDARD
END:VTIMEZONE
BEGIN:VEVENT
DTSTART;TZID=America/New_York:20210422T160000
DTEND;TZID=America/New_York:20210422T210000
DTSTAMP:20260423T025610
CREATED:20210422T184252Z
LAST-MODIFIED:20210422T184252Z
UID:3729-1619107200-1619125200@wellwoodcrabs.com
SUMMARY:River Shack To Go
DESCRIPTION:The River Shack is Open for Curbside Carry Out\nRIVER SHACK TO GO \nThurs 4 – 9 pm\nFri 4 -10 pm\nSat 11 am – 10 pm\nSun & Mon 11 am – 9 pm
URL:https://wellwoodcrabs.com/event/river-shack-to-go-4/
END:VEVENT
BEGIN:VEVENT
DTSTART;TZID=America/New_York:20210425T110000
DTEND;TZID=America/New_York:20210425T210000
DTSTAMP:20260423T025610
CREATED:20210422T184104Z
LAST-MODIFIED:20210422T184104Z
UID:3708-1619348400-1619384400@wellwoodcrabs.com
SUMMARY:River Shack To Go
DESCRIPTION:The River Shack is Open for Curbside Carry Out\nRIVER SHACK TO GO \nThurs 4 – 9 pm\nFri 4 -10 pm\nSat 11 am – 10 pm\nSun & Mon 11 am – 9 pm
URL:https://wellwoodcrabs.com/event/river-shack-to-go-3/
END:VEVENT
BEGIN:VEVENT
DTSTART;VALUE=DATE:20210315
DTEND;VALUE=DATE:20210316
DTSTAMP:20260423T025610
CREATED:20210324T132947Z
LAST-MODIFIED:20210412T200636Z
UID:3392-1615766400-1615852799@wellwoodcrabs.com
SUMMARY:Wellwood is Closed
DESCRIPTION:
URL:https://wellwoodcrabs.com/event/wellwood-is-closed/
END:VEVENT
BEGIN:VEVENT
DTSTART;TZID=America/New_York:20210425T110000
DTEND;TZID=America/New_York:20210425T210000
DTSTAMP:20260423T025610
CREATED:20210422T184104Z
LAST-MODIFIED:20210422T184104Z
UID:3708-1619348400-1619384400@wellwoodcrabs.com
SUMMARY:River Shack To Go
DESCRIPTION:The River Shack is Open for Curbside Carry Out\nRIVER SHACK TO GO \nThurs 4 – 9 pm\nFri 4 -10 pm\nSat 11 am – 10 pm\nSun & Mon 11 am – 9 pm
URL:https://wellwoodcrabs.com/event/river-shack-to-go-3/
END:VEVENT
BEGIN:VEVENT
DTSTART;TZID=America/New_York:20210509T110000
DTEND;TZID=America/New_York:20210509T110000
DTSTAMP:20260423T025610
CREATED:20210429T171809Z
LAST-MODIFIED:20210505T162000Z
UID:3745-1620558000-1620558000@wellwoodcrabs.com
SUMMARY:Mother's Day at The Wellwood
DESCRIPTION:Come Celebrate with Mom Sunday\, May 9th – full menu available. Horse & Buggy ride is complimentary for all Moms!
URL:https://wellwoodcrabs.com/event/mothers-day-at-the-wellwood-pavilion/
CATEGORIES:special event
ATTACH;FMTTYPE=image/jpeg:https://wellwoodcrabs.com/wp-content/uploads/2021/04/iStock-928218204.jpg
END:VEVENT
BEGIN:VEVENT
DTSTART;TZID=America/New_York:20210424T110000
DTEND;TZID=America/New_York:20210424T220000
DTSTAMP:20260423T025610
CREATED:20210226T184815Z
LAST-MODIFIED:20210422T183754Z
UID:3318-1619262000-1619301600@wellwoodcrabs.com
SUMMARY:River Shack To Go
DESCRIPTION:The River Shack is Open for Curbside Carry Out\nRIVER SHACK TO GO \nThurs 4 – 9 pm\nFri 4 -10 pm\nSat 11 am – 10 pm\nSun & Mon 11 am – 9 pm
URL:https://wellwoodcrabs.com/event/river-shack-to-go/
LOCATION:River Shack\, 523 Water Street\, Charlestown\, MD\, 21914\, United States
END:VEVENT
BEGIN:VEVENT
DTSTART;TZID=America/New_York:20210423T160000
DTEND;TZID=America/New_York:20210423T220000
DTSTAMP:20260423T025610
CREATED:20210330T123951Z
LAST-MODIFIED:20210422T183303Z
UID:3425-1619193600-1619215200@wellwoodcrabs.com
SUMMARY:River Shack To Go
DESCRIPTION:The River Shack is Open for Curbside Carry Out\nRIVER SHACK TO GO \nThurs 4 – 9 pm\nFri 4 -10 pm\nSat 11 am – 10 pm\nSun & Mon 11 am – 9 pm
URL:https://wellwoodcrabs.com/event/river-shack-to-go-2/
LOCATION:River Shack\, 523 Water Street\, Charlestown\, MD\, 21914\, United States
ATTACH;FMTTYPE=image/jpeg:https://wellwoodcrabs.com/wp-content/uploads/2021/04/RIVER-SHACK-DINING-MENU-4-2021-pg-1-scaled.jpg
END:VEVENT
BEGIN:VEVENT
DTSTART;TZID=America/New_York:20210422T160000
DTEND;TZID=America/New_York:20210422T210000
DTSTAMP:20260423T025610
CREATED:20210422T184252Z
LAST-MODIFIED:20210422T184252Z
UID:3729-1619107200-1619125200@wellwoodcrabs.com
SUMMARY:River Shack To Go
DESCRIPTION:The River Shack is Open for Curbside Carry Out\nRIVER SHACK TO GO \nThurs 4 – 9 pm\nFri 4 -10 pm\nSat 11 am – 10 pm\nSun & Mon 11 am – 9 pm
URL:https://wellwoodcrabs.com/event/river-shack-to-go-4/
END:VEVENT
BEGIN:VEVENT
DTSTART;TZID=America/New_York:20210425T110000
DTEND;TZID=America/New_York:20210425T210000
DTSTAMP:20260423T025610
CREATED:20210422T184104Z
LAST-MODIFIED:20210422T184104Z
UID:3708-1619348400-1619384400@wellwoodcrabs.com
SUMMARY:River Shack To Go
DESCRIPTION:The River Shack is Open for Curbside Carry Out\nRIVER SHACK TO GO \nThurs 4 – 9 pm\nFri 4 -10 pm\nSat 11 am – 10 pm\nSun & Mon 11 am – 9 pm
URL:https://wellwoodcrabs.com/event/river-shack-to-go-3/
END:VEVENT
BEGIN:VEVENT
DTSTART;VALUE=DATE:20210315
DTEND;VALUE=DATE:20210316
DTSTAMP:20260423T025610
CREATED:20210324T132947Z
LAST-MODIFIED:20210412T200636Z
UID:3392-1615766400-1615852799@wellwoodcrabs.com
SUMMARY:Wellwood is Closed
DESCRIPTION:
URL:https://wellwoodcrabs.com/event/wellwood-is-closed/
END:VEVENT
BEGIN:VEVENT
DTSTART;TZID=America/New_York:20210425T110000
DTEND;TZID=America/New_York:20210425T210000
DTSTAMP:20260423T025610
CREATED:20210422T184104Z
LAST-MODIFIED:20210422T184104Z
UID:3708-1619348400-1619384400@wellwoodcrabs.com
SUMMARY:River Shack To Go
DESCRIPTION:The River Shack is Open for Curbside Carry Out\nRIVER SHACK TO GO \nThurs 4 – 9 pm\nFri 4 -10 pm\nSat 11 am – 10 pm\nSun & Mon 11 am – 9 pm
URL:https://wellwoodcrabs.com/event/river-shack-to-go-3/
END:VEVENT
BEGIN:VEVENT
DTSTART;TZID=America/New_York:20210424T110000
DTEND;TZID=America/New_York:20210424T220000
DTSTAMP:20260423T025610
CREATED:20210226T184815Z
LAST-MODIFIED:20210422T183754Z
UID:3318-1619262000-1619301600@wellwoodcrabs.com
SUMMARY:River Shack To Go
DESCRIPTION:The River Shack is Open for Curbside Carry Out\nRIVER SHACK TO GO \nThurs 4 – 9 pm\nFri 4 -10 pm\nSat 11 am – 10 pm\nSun & Mon 11 am – 9 pm
URL:https://wellwoodcrabs.com/event/river-shack-to-go/
LOCATION:River Shack\, 523 Water Street\, Charlestown\, MD\, 21914\, United States
END:VEVENT
BEGIN:VEVENT
DTSTART;TZID=America/New_York:20210423T160000
DTEND;TZID=America/New_York:20210423T220000
DTSTAMP:20260423T025610
CREATED:20210330T123951Z
LAST-MODIFIED:20210422T183303Z
UID:3425-1619193600-1619215200@wellwoodcrabs.com
SUMMARY:River Shack To Go
DESCRIPTION:The River Shack is Open for Curbside Carry Out\nRIVER SHACK TO GO \nThurs 4 – 9 pm\nFri 4 -10 pm\nSat 11 am – 10 pm\nSun & Mon 11 am – 9 pm
URL:https://wellwoodcrabs.com/event/river-shack-to-go-2/
LOCATION:River Shack\, 523 Water Street\, Charlestown\, MD\, 21914\, United States
ATTACH;FMTTYPE=image/jpeg:https://wellwoodcrabs.com/wp-content/uploads/2021/04/RIVER-SHACK-DINING-MENU-4-2021-pg-1-scaled.jpg
END:VEVENT
BEGIN:VEVENT
DTSTART;TZID=America/New_York:20210422T160000
DTEND;TZID=America/New_York:20210422T210000
DTSTAMP:20260423T025610
CREATED:20210422T184252Z
LAST-MODIFIED:20210422T184252Z
UID:3729-1619107200-1619125200@wellwoodcrabs.com
SUMMARY:River Shack To Go
DESCRIPTION:The River Shack is Open for Curbside Carry Out\nRIVER SHACK TO GO \nThurs 4 – 9 pm\nFri 4 -10 pm\nSat 11 am – 10 pm\nSun & Mon 11 am – 9 pm
URL:https://wellwoodcrabs.com/event/river-shack-to-go-4/
END:VEVENT
BEGIN:VEVENT
DTSTART;TZID=America/New_York:20210425T110000
DTEND;TZID=America/New_York:20210425T210000
DTSTAMP:20260423T025610
CREATED:20210422T184104Z
LAST-MODIFIED:20210422T184104Z
UID:3708-1619348400-1619384400@wellwoodcrabs.com
SUMMARY:River Shack To Go
DESCRIPTION:The River Shack is Open for Curbside Carry Out\nRIVER SHACK TO GO \nThurs 4 – 9 pm\nFri 4 -10 pm\nSat 11 am – 10 pm\nSun & Mon 11 am – 9 pm
URL:https://wellwoodcrabs.com/event/river-shack-to-go-3/
END:VEVENT
BEGIN:VEVENT
DTSTART;VALUE=DATE:20210315
DTEND;VALUE=DATE:20210316
DTSTAMP:20260423T025610
CREATED:20210324T132947Z
LAST-MODIFIED:20210412T200636Z
UID:3392-1615766400-1615852799@wellwoodcrabs.com
SUMMARY:Wellwood is Closed
DESCRIPTION:
URL:https://wellwoodcrabs.com/event/wellwood-is-closed/
END:VEVENT
BEGIN:VEVENT
DTSTART;TZID=America/New_York:20210425T110000
DTEND;TZID=America/New_York:20210425T210000
DTSTAMP:20260423T025610
CREATED:20210422T184104Z
LAST-MODIFIED:20210422T184104Z
UID:3708-1619348400-1619384400@wellwoodcrabs.com
SUMMARY:River Shack To Go
DESCRIPTION:The River Shack is Open for Curbside Carry Out\nRIVER SHACK TO GO \nThurs 4 – 9 pm\nFri 4 -10 pm\nSat 11 am – 10 pm\nSun & Mon 11 am – 9 pm
URL:https://wellwoodcrabs.com/event/river-shack-to-go-3/
END:VEVENT
BEGIN:VEVENT
DTSTART;TZID=America/New_York:20210424T110000
DTEND;TZID=America/New_York:20210424T220000
DTSTAMP:20260423T025610
CREATED:20210226T184815Z
LAST-MODIFIED:20210422T183754Z
UID:3318-1619262000-1619301600@wellwoodcrabs.com
SUMMARY:River Shack To Go
DESCRIPTION:The River Shack is Open for Curbside Carry Out\nRIVER SHACK TO GO \nThurs 4 – 9 pm\nFri 4 -10 pm\nSat 11 am – 10 pm\nSun & Mon 11 am – 9 pm
URL:https://wellwoodcrabs.com/event/river-shack-to-go/
LOCATION:River Shack\, 523 Water Street\, Charlestown\, MD\, 21914\, United States
END:VEVENT
BEGIN:VEVENT
DTSTART;TZID=America/New_York:20210423T160000
DTEND;TZID=America/New_York:20210423T220000
DTSTAMP:20260423T025610
CREATED:20210330T123951Z
LAST-MODIFIED:20210422T183303Z
UID:3425-1619193600-1619215200@wellwoodcrabs.com
SUMMARY:River Shack To Go
DESCRIPTION:The River Shack is Open for Curbside Carry Out\nRIVER SHACK TO GO \nThurs 4 – 9 pm\nFri 4 -10 pm\nSat 11 am – 10 pm\nSun & Mon 11 am – 9 pm
URL:https://wellwoodcrabs.com/event/river-shack-to-go-2/
LOCATION:River Shack\, 523 Water Street\, Charlestown\, MD\, 21914\, United States
ATTACH;FMTTYPE=image/jpeg:https://wellwoodcrabs.com/wp-content/uploads/2021/04/RIVER-SHACK-DINING-MENU-4-2021-pg-1-scaled.jpg
END:VEVENT
BEGIN:VEVENT
DTSTART;TZID=America/New_York:20210422T160000
DTEND;TZID=America/New_York:20210422T210000
DTSTAMP:20260423T025610
CREATED:20210422T184252Z
LAST-MODIFIED:20210422T184252Z
UID:3729-1619107200-1619125200@wellwoodcrabs.com
SUMMARY:River Shack To Go
DESCRIPTION:The River Shack is Open for Curbside Carry Out\nRIVER SHACK TO GO \nThurs 4 – 9 pm\nFri 4 -10 pm\nSat 11 am – 10 pm\nSun & Mon 11 am – 9 pm
URL:https://wellwoodcrabs.com/event/river-shack-to-go-4/
END:VEVENT
BEGIN:VEVENT
DTSTART;TZID=America/New_York:20210422T160000
DTEND;TZID=America/New_York:20210422T210000
DTSTAMP:20260423T025610
CREATED:20210324T133338Z
LAST-MODIFIED:20210422T184153Z
UID:3407-1619107200-1619125200@wellwoodcrabs.com
SUMMARY:River Shack Opens for the Season
DESCRIPTION:
URL:https://wellwoodcrabs.com/event/river-shack-opens-for-the-season/
ATTACH;FMTTYPE=image/jpeg:https://wellwoodcrabs.com/wp-content/uploads/2021/03/popup-slider_wellwoodRIVERSHACK21_-featured.jpg
END:VEVENT
BEGIN:VEVENT
DTSTART;VALUE=DATE:20210315
DTEND;VALUE=DATE:20210316
DTSTAMP:20260423T025610
CREATED:20210324T132947Z
LAST-MODIFIED:20210412T200636Z
UID:3392-1615766400-1615852799@wellwoodcrabs.com
SUMMARY:Wellwood is Closed
DESCRIPTION:
URL:https://wellwoodcrabs.com/event/wellwood-is-closed/
END:VEVENT
BEGIN:VEVENT
DTSTART;VALUE=DATE:20210315
DTEND;VALUE=DATE:20210316
DTSTAMP:20260423T025610
CREATED:20210324T132947Z
LAST-MODIFIED:20210412T200636Z
UID:3392-1615766400-1615852799@wellwoodcrabs.com
SUMMARY:Wellwood is Closed
DESCRIPTION:
URL:https://wellwoodcrabs.com/event/wellwood-is-closed/
END:VEVENT
BEGIN:VEVENT
DTSTART;VALUE=DATE:20210315
DTEND;VALUE=DATE:20210316
DTSTAMP:20260423T025610
CREATED:20210324T132947Z
LAST-MODIFIED:20210412T200636Z
UID:3392-1615766400-1615852799@wellwoodcrabs.com
SUMMARY:Wellwood is Closed
DESCRIPTION:
URL:https://wellwoodcrabs.com/event/wellwood-is-closed/
END:VEVENT
BEGIN:VEVENT
DTSTART;VALUE=DATE:20210315
DTEND;VALUE=DATE:20210316
DTSTAMP:20260423T025610
CREATED:20210324T132947Z
LAST-MODIFIED:20210412T200636Z
UID:3392-1615766400-1615852799@wellwoodcrabs.com
SUMMARY:Wellwood is Closed
DESCRIPTION:
URL:https://wellwoodcrabs.com/event/wellwood-is-closed/
END:VEVENT
BEGIN:VEVENT
DTSTART;VALUE=DATE:20210315
DTEND;VALUE=DATE:20210316
DTSTAMP:20260423T025610
CREATED:20210324T132947Z
LAST-MODIFIED:20210412T200636Z
UID:3392-1615766400-1615852799@wellwoodcrabs.com
SUMMARY:Wellwood is Closed
DESCRIPTION:
URL:https://wellwoodcrabs.com/event/wellwood-is-closed/
END:VEVENT
BEGIN:VEVENT
DTSTART;VALUE=DATE:20210315
DTEND;VALUE=DATE:20210316
DTSTAMP:20260423T025610
CREATED:20210324T132947Z
LAST-MODIFIED:20210412T200636Z
UID:3392-1615766400-1615852799@wellwoodcrabs.com
SUMMARY:Wellwood is Closed
DESCRIPTION:
URL:https://wellwoodcrabs.com/event/wellwood-is-closed/
END:VEVENT
END:VCALENDAR