BEGIN:VCALENDAR
VERSION:2.0
PRODID:-//The River Shack - ECPv6.15.20//NONSGML v1.0//EN
CALSCALE:GREGORIAN
METHOD:PUBLISH
X-WR-CALNAME:The River Shack
X-ORIGINAL-URL:https://wellwoodcrabs.com
X-WR-CALDESC:Events for The River Shack
REFRESH-INTERVAL;VALUE=DURATION:PT1H
X-Robots-Tag:noindex
X-PUBLISHED-TTL:PT1H
BEGIN:VTIMEZONE
TZID:America/New_York
BEGIN:DAYLIGHT
TZOFFSETFROM:-0500
TZOFFSETTO:-0400
TZNAME:EDT
DTSTART:20200308T070000
END:DAYLIGHT
BEGIN:STANDARD
TZOFFSETFROM:-0400
TZOFFSETTO:-0500
TZNAME:EST
DTSTART:20201101T060000
END:STANDARD
BEGIN:DAYLIGHT
TZOFFSETFROM:-0500
TZOFFSETTO:-0400
TZNAME:EDT
DTSTART:20210314T070000
END:DAYLIGHT
BEGIN:STANDARD
TZOFFSETFROM:-0400
TZOFFSETTO:-0500
TZNAME:EST
DTSTART:20211107T060000
END:STANDARD
BEGIN:DAYLIGHT
TZOFFSETFROM:-0500
TZOFFSETTO:-0400
TZNAME:EDT
DTSTART:20220313T070000
END:DAYLIGHT
BEGIN:STANDARD
TZOFFSETFROM:-0400
TZOFFSETTO:-0500
TZNAME:EST
DTSTART:20221106T060000
END:STANDARD
END:VTIMEZONE
BEGIN:VEVENT
DTSTART;TZID=America/New_York:20210424T110000
DTEND;TZID=America/New_York:20210424T220000
DTSTAMP:20260422T221545
CREATED:20210226T184815Z
LAST-MODIFIED:20210422T183754Z
UID:3318-1619262000-1619301600@wellwoodcrabs.com
SUMMARY:River Shack To Go
DESCRIPTION:The River Shack is Open for Curbside Carry Out\nRIVER SHACK TO GO \nThurs 4 – 9 pm\nFri 4 -10 pm\nSat 11 am – 10 pm\nSun & Mon 11 am – 9 pm
URL:https://wellwoodcrabs.com/event/river-shack-to-go/
LOCATION:River Shack\, 523 Water Street\, Charlestown\, MD\, 21914\, United States
END:VEVENT
BEGIN:VEVENT
DTSTART;TZID=America/New_York:20210604T183000
DTEND;TZID=America/New_York:20210604T213000
DTSTAMP:20260422T221545
CREATED:20210412T195758Z
LAST-MODIFIED:20210524T210636Z
UID:3457-1622831400-1622842200@wellwoodcrabs.com
SUMMARY:RS - Conley & Watson
DESCRIPTION:CEO
URL:https://wellwoodcrabs.com/event/rs-conley-watson/
CATEGORIES:Music
END:VEVENT
BEGIN:VEVENT
DTSTART;TZID=America/New_York:20210423T160000
DTEND;TZID=America/New_York:20210423T220000
DTSTAMP:20260422T221545
CREATED:20210330T123951Z
LAST-MODIFIED:20210422T183303Z
UID:3425-1619193600-1619215200@wellwoodcrabs.com
SUMMARY:River Shack To Go
DESCRIPTION:The River Shack is Open for Curbside Carry Out\nRIVER SHACK TO GO \nThurs 4 – 9 pm\nFri 4 -10 pm\nSat 11 am – 10 pm\nSun & Mon 11 am – 9 pm
URL:https://wellwoodcrabs.com/event/river-shack-to-go-2/
LOCATION:River Shack\, 523 Water Street\, Charlestown\, MD\, 21914\, United States
ATTACH;FMTTYPE=image/jpeg:https://wellwoodcrabs.com/wp-content/uploads/2021/04/RIVER-SHACK-DINING-MENU-4-2021-pg-1-scaled.jpg
END:VEVENT
BEGIN:VEVENT
DTSTART;TZID=America/New_York:20210603T180000
DTEND;TZID=America/New_York:20210603T210000
DTSTAMP:20260422T221545
CREATED:20210412T195758Z
LAST-MODIFIED:20210524T210636Z
UID:3456-1622743200-1622754000@wellwoodcrabs.com
SUMMARY:WW - Conley & Watson
DESCRIPTION:CEO
URL:https://wellwoodcrabs.com/event/ww-conley-watson-2/
CATEGORIES:Music
END:VEVENT
BEGIN:VEVENT
DTSTART;TZID=America/New_York:20210422T160000
DTEND;TZID=America/New_York:20210422T210000
DTSTAMP:20260422T221545
CREATED:20210422T184252Z
LAST-MODIFIED:20210422T184252Z
UID:3729-1619107200-1619125200@wellwoodcrabs.com
SUMMARY:River Shack To Go
DESCRIPTION:The River Shack is Open for Curbside Carry Out\nRIVER SHACK TO GO \nThurs 4 – 9 pm\nFri 4 -10 pm\nSat 11 am – 10 pm\nSun & Mon 11 am – 9 pm
URL:https://wellwoodcrabs.com/event/river-shack-to-go-4/
END:VEVENT
BEGIN:VEVENT
DTSTART;TZID=America/New_York:20210602T180000
DTEND;TZID=America/New_York:20210602T210000
DTSTAMP:20260422T221545
CREATED:20210412T195758Z
LAST-MODIFIED:20210524T210636Z
UID:3455-1622656800-1622667600@wellwoodcrabs.com
SUMMARY:WW - Open Mic w/ Box Turtle Bob
DESCRIPTION:AE0
URL:https://wellwoodcrabs.com/event/ww-open-mic-w-box-turtle-bob-2/
CATEGORIES:Music
END:VEVENT
BEGIN:VEVENT
DTSTART;TZID=America/New_York:20210601T180000
DTEND;TZID=America/New_York:20210601T210000
DTSTAMP:20260422T221545
CREATED:20210412T195758Z
LAST-MODIFIED:20210524T210635Z
UID:3454-1622570400-1622581200@wellwoodcrabs.com
SUMMARY:WW Rick Sommers
DESCRIPTION:
URL:https://wellwoodcrabs.com/event/ww-rick-sommers/
CATEGORIES:Music
END:VEVENT
BEGIN:VEVENT
DTSTART;TZID=America/New_York:20210531T180000
DTEND;TZID=America/New_York:20210531T210000
DTSTAMP:20260422T221545
CREATED:20210412T195758Z
LAST-MODIFIED:20210524T210635Z
UID:3453-1622484000-1622494800@wellwoodcrabs.com
SUMMARY:WW Box Turtle Bob
DESCRIPTION:
URL:https://wellwoodcrabs.com/event/ww-box-turtle-bob/
CATEGORIES:Music
END:VEVENT
BEGIN:VEVENT
DTSTART;TZID=America/New_York:20210517T110000
DTEND;TZID=America/New_York:20210517T210000
DTSTAMP:20260422T221545
CREATED:20210517T193505Z
LAST-MODIFIED:20210907T185821Z
UID:3750-1621249200-1621285200@wellwoodcrabs.com
SUMMARY:River Shack Specials
DESCRIPTION:$5 Medium Cheese Pizza (Dine-in Only) \n$6 Mojitos \n$7 Orange Crushes
URL:https://wellwoodcrabs.com/event/river-shack-specials/
CATEGORIES:weekly special
ATTACH;FMTTYPE=image/jpeg:https://wellwoodcrabs.com/wp-content/uploads/2021/05/5-med-cheese-pizza-orange-crush-mojitos.jpg
END:VEVENT
BEGIN:VEVENT
DTSTART;TZID=America/New_York:20210425T110000
DTEND;TZID=America/New_York:20210425T210000
DTSTAMP:20260422T221545
CREATED:20210422T184104Z
LAST-MODIFIED:20210422T184104Z
UID:3708-1619348400-1619384400@wellwoodcrabs.com
SUMMARY:River Shack To Go
DESCRIPTION:The River Shack is Open for Curbside Carry Out\nRIVER SHACK TO GO \nThurs 4 – 9 pm\nFri 4 -10 pm\nSat 11 am – 10 pm\nSun & Mon 11 am – 9 pm
URL:https://wellwoodcrabs.com/event/river-shack-to-go-3/
END:VEVENT
BEGIN:VEVENT
DTSTART;TZID=America/New_York:20210530T183000
DTEND;TZID=America/New_York:20210530T213000
DTSTAMP:20260422T221545
CREATED:20210412T195758Z
LAST-MODIFIED:20210524T210634Z
UID:3452-1622399400-1622410200@wellwoodcrabs.com
SUMMARY:RS AJ Love
DESCRIPTION:AGE
URL:https://wellwoodcrabs.com/event/rs-aj-love/
CATEGORIES:Music
END:VEVENT
BEGIN:VEVENT
DTSTART;TZID=America/New_York:20210530T183000
DTEND;TZID=America/New_York:20210530T213000
DTSTAMP:20260422T221545
CREATED:20210412T195758Z
LAST-MODIFIED:20210524T210635Z
UID:3451-1622399400-1622410200@wellwoodcrabs.com
SUMMARY:WW Something Borrowed
DESCRIPTION:E00 plus 5 $200 gift cards
URL:https://wellwoodcrabs.com/event/ww-something-borrowed/
CATEGORIES:Music
END:VEVENT
BEGIN:VEVENT
DTSTART;TZID=America/New_York:20210425T110000
DTEND;TZID=America/New_York:20210425T210000
DTSTAMP:20260422T221545
CREATED:20210422T184104Z
LAST-MODIFIED:20210422T184104Z
UID:3708-1619348400-1619384400@wellwoodcrabs.com
SUMMARY:River Shack To Go
DESCRIPTION:The River Shack is Open for Curbside Carry Out\nRIVER SHACK TO GO \nThurs 4 – 9 pm\nFri 4 -10 pm\nSat 11 am – 10 pm\nSun & Mon 11 am – 9 pm
URL:https://wellwoodcrabs.com/event/river-shack-to-go-3/
END:VEVENT
BEGIN:VEVENT
DTSTART;TZID=America/New_York:20210529T190000
DTEND;TZID=America/New_York:20210529T230000
DTSTAMP:20260422T221545
CREATED:20210412T195758Z
LAST-MODIFIED:20210524T210634Z
UID:3449-1622314800-1622329200@wellwoodcrabs.com
SUMMARY:WW Exit 93
DESCRIPTION:TRIO C00\nFULL F00
URL:https://wellwoodcrabs.com/event/ww-exit-93/
CATEGORIES:Music
END:VEVENT
BEGIN:VEVENT
DTSTART;TZID=America/New_York:20210529T183000
DTEND;TZID=America/New_York:20210529T213000
DTSTAMP:20260422T221545
CREATED:20210412T195758Z
LAST-MODIFIED:20210524T210633Z
UID:3450-1622313000-1622323800@wellwoodcrabs.com
SUMMARY:RS Pete & Chris
DESCRIPTION:C00
URL:https://wellwoodcrabs.com/event/rs-pete-chris/
CATEGORIES:Music
END:VEVENT
BEGIN:VEVENT
DTSTART;TZID=America/New_York:20210424T110000
DTEND;TZID=America/New_York:20210424T220000
DTSTAMP:20260422T221545
CREATED:20210226T184815Z
LAST-MODIFIED:20210422T183754Z
UID:3318-1619262000-1619301600@wellwoodcrabs.com
SUMMARY:River Shack To Go
DESCRIPTION:The River Shack is Open for Curbside Carry Out\nRIVER SHACK TO GO \nThurs 4 – 9 pm\nFri 4 -10 pm\nSat 11 am – 10 pm\nSun & Mon 11 am – 9 pm
URL:https://wellwoodcrabs.com/event/river-shack-to-go/
LOCATION:River Shack\, 523 Water Street\, Charlestown\, MD\, 21914\, United States
END:VEVENT
BEGIN:VEVENT
DTSTART;TZID=America/New_York:20210528T183000
DTEND;TZID=America/New_York:20210528T223000
DTSTAMP:20260422T221545
CREATED:20210412T195758Z
LAST-MODIFIED:20210524T210632Z
UID:3447-1622226600-1622241000@wellwoodcrabs.com
SUMMARY:WW Bleech
DESCRIPTION:A000
URL:https://wellwoodcrabs.com/event/ww-bleech/
CATEGORIES:Music
END:VEVENT
BEGIN:VEVENT
DTSTART;TZID=America/New_York:20210528T183000
DTEND;TZID=America/New_York:20210528T213000
DTSTAMP:20260422T221545
CREATED:20210412T195758Z
LAST-MODIFIED:20210524T210632Z
UID:3448-1622226600-1622237400@wellwoodcrabs.com
SUMMARY:RS Dub Glenn
DESCRIPTION:BB0
URL:https://wellwoodcrabs.com/event/rs-dub-glenn/
CATEGORIES:Music
END:VEVENT
BEGIN:VEVENT
DTSTART;TZID=America/New_York:20210423T160000
DTEND;TZID=America/New_York:20210423T220000
DTSTAMP:20260422T221545
CREATED:20210330T123951Z
LAST-MODIFIED:20210422T183303Z
UID:3425-1619193600-1619215200@wellwoodcrabs.com
SUMMARY:River Shack To Go
DESCRIPTION:The River Shack is Open for Curbside Carry Out\nRIVER SHACK TO GO \nThurs 4 – 9 pm\nFri 4 -10 pm\nSat 11 am – 10 pm\nSun & Mon 11 am – 9 pm
URL:https://wellwoodcrabs.com/event/river-shack-to-go-2/
LOCATION:River Shack\, 523 Water Street\, Charlestown\, MD\, 21914\, United States
ATTACH;FMTTYPE=image/jpeg:https://wellwoodcrabs.com/wp-content/uploads/2021/04/RIVER-SHACK-DINING-MENU-4-2021-pg-1-scaled.jpg
END:VEVENT
BEGIN:VEVENT
DTSTART;TZID=America/New_York:20210528T080000
DTEND;TZID=America/New_York:20210531T170000
DTSTAMP:20260422T221545
CREATED:20210528T131304Z
LAST-MODIFIED:20210528T131304Z
UID:4030-1622188800-1622480400@wellwoodcrabs.com
SUMMARY:Memorial Day Weekend Line Up
DESCRIPTION:Our LIVE MUSIC is gearing up. Starting this Sunday with Next Direction Reggae\, music will be featured nightly at The Wellwood and weekends at The River Shack. Set your calendar for Memorial Day week(end) with this lineup!
URL:https://wellwoodcrabs.com/event/memorial-day-weekend-line-up/
LOCATION:The Wellwood Restaurant\, 523 Water Street\, Charlestown\, MD\, 21914\, United States
CATEGORIES:Music,special event
END:VEVENT
BEGIN:VEVENT
DTSTART;TZID=America/New_York:20210527T180000
DTEND;TZID=America/New_York:20210527T210000
DTSTAMP:20260422T221545
CREATED:20210412T195758Z
LAST-MODIFIED:20210524T210632Z
UID:3446-1622138400-1622149200@wellwoodcrabs.com
SUMMARY:WW - Conley & Watson
DESCRIPTION:CEO
URL:https://wellwoodcrabs.com/event/ww-conley-watson/
CATEGORIES:Music
END:VEVENT
BEGIN:VEVENT
DTSTART;TZID=America/New_York:20210422T160000
DTEND;TZID=America/New_York:20210422T210000
DTSTAMP:20260422T221545
CREATED:20210422T184252Z
LAST-MODIFIED:20210422T184252Z
UID:3729-1619107200-1619125200@wellwoodcrabs.com
SUMMARY:River Shack To Go
DESCRIPTION:The River Shack is Open for Curbside Carry Out\nRIVER SHACK TO GO \nThurs 4 – 9 pm\nFri 4 -10 pm\nSat 11 am – 10 pm\nSun & Mon 11 am – 9 pm
URL:https://wellwoodcrabs.com/event/river-shack-to-go-4/
END:VEVENT
BEGIN:VEVENT
DTSTART;TZID=America/New_York:20210525T180000
DTEND;TZID=America/New_York:20210525T210000
DTSTAMP:20260422T221545
CREATED:20210412T195757Z
LAST-MODIFIED:20210524T210631Z
UID:3444-1621965600-1621976400@wellwoodcrabs.com
SUMMARY:WW Bob Stretch
DESCRIPTION:BE0
URL:https://wellwoodcrabs.com/event/ww-bob-stretch/
CATEGORIES:Music
END:VEVENT
BEGIN:VEVENT
DTSTART;TZID=America/New_York:20210517T110000
DTEND;TZID=America/New_York:20210517T210000
DTSTAMP:20260422T221545
CREATED:20210517T193505Z
LAST-MODIFIED:20210907T185821Z
UID:3750-1621249200-1621285200@wellwoodcrabs.com
SUMMARY:River Shack Specials
DESCRIPTION:$5 Medium Cheese Pizza (Dine-in Only) \n$6 Mojitos \n$7 Orange Crushes
URL:https://wellwoodcrabs.com/event/river-shack-specials/
CATEGORIES:weekly special
ATTACH;FMTTYPE=image/jpeg:https://wellwoodcrabs.com/wp-content/uploads/2021/05/5-med-cheese-pizza-orange-crush-mojitos.jpg
END:VEVENT
BEGIN:VEVENT
DTSTART;TZID=America/New_York:20210425T110000
DTEND;TZID=America/New_York:20210425T210000
DTSTAMP:20260422T221545
CREATED:20210422T184104Z
LAST-MODIFIED:20210422T184104Z
UID:3708-1619348400-1619384400@wellwoodcrabs.com
SUMMARY:River Shack To Go
DESCRIPTION:The River Shack is Open for Curbside Carry Out\nRIVER SHACK TO GO \nThurs 4 – 9 pm\nFri 4 -10 pm\nSat 11 am – 10 pm\nSun & Mon 11 am – 9 pm
URL:https://wellwoodcrabs.com/event/river-shack-to-go-3/
END:VEVENT
BEGIN:VEVENT
DTSTART;VALUE=DATE:20210315
DTEND;VALUE=DATE:20210316
DTSTAMP:20260422T221545
CREATED:20210324T132947Z
LAST-MODIFIED:20210412T200636Z
UID:3392-1615766400-1615852799@wellwoodcrabs.com
SUMMARY:Wellwood is Closed
DESCRIPTION:
URL:https://wellwoodcrabs.com/event/wellwood-is-closed/
END:VEVENT
BEGIN:VEVENT
DTSTART;TZID=America/New_York:20210425T110000
DTEND;TZID=America/New_York:20210425T210000
DTSTAMP:20260422T221545
CREATED:20210422T184104Z
LAST-MODIFIED:20210422T184104Z
UID:3708-1619348400-1619384400@wellwoodcrabs.com
SUMMARY:River Shack To Go
DESCRIPTION:The River Shack is Open for Curbside Carry Out\nRIVER SHACK TO GO \nThurs 4 – 9 pm\nFri 4 -10 pm\nSat 11 am – 10 pm\nSun & Mon 11 am – 9 pm
URL:https://wellwoodcrabs.com/event/river-shack-to-go-3/
END:VEVENT
BEGIN:VEVENT
DTSTART;TZID=America/New_York:20210424T110000
DTEND;TZID=America/New_York:20210424T220000
DTSTAMP:20260422T221545
CREATED:20210226T184815Z
LAST-MODIFIED:20210422T183754Z
UID:3318-1619262000-1619301600@wellwoodcrabs.com
SUMMARY:River Shack To Go
DESCRIPTION:The River Shack is Open for Curbside Carry Out\nRIVER SHACK TO GO \nThurs 4 – 9 pm\nFri 4 -10 pm\nSat 11 am – 10 pm\nSun & Mon 11 am – 9 pm
URL:https://wellwoodcrabs.com/event/river-shack-to-go/
LOCATION:River Shack\, 523 Water Street\, Charlestown\, MD\, 21914\, United States
END:VEVENT
BEGIN:VEVENT
DTSTART;TZID=America/New_York:20210423T160000
DTEND;TZID=America/New_York:20210423T220000
DTSTAMP:20260422T221545
CREATED:20210330T123951Z
LAST-MODIFIED:20210422T183303Z
UID:3425-1619193600-1619215200@wellwoodcrabs.com
SUMMARY:River Shack To Go
DESCRIPTION:The River Shack is Open for Curbside Carry Out\nRIVER SHACK TO GO \nThurs 4 – 9 pm\nFri 4 -10 pm\nSat 11 am – 10 pm\nSun & Mon 11 am – 9 pm
URL:https://wellwoodcrabs.com/event/river-shack-to-go-2/
LOCATION:River Shack\, 523 Water Street\, Charlestown\, MD\, 21914\, United States
ATTACH;FMTTYPE=image/jpeg:https://wellwoodcrabs.com/wp-content/uploads/2021/04/RIVER-SHACK-DINING-MENU-4-2021-pg-1-scaled.jpg
END:VEVENT
BEGIN:VEVENT
DTSTART;TZID=America/New_York:20210422T160000
DTEND;TZID=America/New_York:20210422T210000
DTSTAMP:20260422T221545
CREATED:20210422T184252Z
LAST-MODIFIED:20210422T184252Z
UID:3729-1619107200-1619125200@wellwoodcrabs.com
SUMMARY:River Shack To Go
DESCRIPTION:The River Shack is Open for Curbside Carry Out\nRIVER SHACK TO GO \nThurs 4 – 9 pm\nFri 4 -10 pm\nSat 11 am – 10 pm\nSun & Mon 11 am – 9 pm
URL:https://wellwoodcrabs.com/event/river-shack-to-go-4/
END:VEVENT
END:VCALENDAR