BEGIN:VCALENDAR
VERSION:2.0
PRODID:-//The River Shack - ECPv6.15.20//NONSGML v1.0//EN
CALSCALE:GREGORIAN
METHOD:PUBLISH
X-WR-CALNAME:The River Shack
X-ORIGINAL-URL:https://wellwoodcrabs.com
X-WR-CALDESC:Events for The River Shack
REFRESH-INTERVAL;VALUE=DURATION:PT1H
X-Robots-Tag:noindex
X-PUBLISHED-TTL:PT1H
BEGIN:VTIMEZONE
TZID:America/New_York
BEGIN:DAYLIGHT
TZOFFSETFROM:-0500
TZOFFSETTO:-0400
TZNAME:EDT
DTSTART:20200308T070000
END:DAYLIGHT
BEGIN:STANDARD
TZOFFSETFROM:-0400
TZOFFSETTO:-0500
TZNAME:EST
DTSTART:20201101T060000
END:STANDARD
BEGIN:DAYLIGHT
TZOFFSETFROM:-0500
TZOFFSETTO:-0400
TZNAME:EDT
DTSTART:20210314T070000
END:DAYLIGHT
BEGIN:STANDARD
TZOFFSETFROM:-0400
TZOFFSETTO:-0500
TZNAME:EST
DTSTART:20211107T060000
END:STANDARD
BEGIN:DAYLIGHT
TZOFFSETFROM:-0500
TZOFFSETTO:-0400
TZNAME:EDT
DTSTART:20220313T070000
END:DAYLIGHT
BEGIN:STANDARD
TZOFFSETFROM:-0400
TZOFFSETTO:-0500
TZNAME:EST
DTSTART:20221106T060000
END:STANDARD
END:VTIMEZONE
BEGIN:VEVENT
DTSTART;TZID=America/New_York:20210517T110000
DTEND;TZID=America/New_York:20210517T210000
DTSTAMP:20260422T105059
CREATED:20210517T193505Z
LAST-MODIFIED:20210907T185821Z
UID:3750-1621249200-1621285200@wellwoodcrabs.com
SUMMARY:River Shack Specials
DESCRIPTION:$5 Medium Cheese Pizza (Dine-in Only) \n$6 Mojitos \n$7 Orange Crushes
URL:https://wellwoodcrabs.com/event/river-shack-specials/
CATEGORIES:weekly special
ATTACH;FMTTYPE=image/jpeg:https://wellwoodcrabs.com/wp-content/uploads/2021/05/5-med-cheese-pizza-orange-crush-mojitos.jpg
END:VEVENT
BEGIN:VEVENT
DTSTART;TZID=America/New_York:20210801T173000
DTEND;TZID=America/New_York:20210801T210000
DTSTAMP:20260422T105059
CREATED:20210412T195815Z
LAST-MODIFIED:20210713T145218Z
UID:3515-1627839000-1627851600@wellwoodcrabs.com
SUMMARY:WW How's My Hat
DESCRIPTION:DUO D00\nTRIO E00
URL:https://wellwoodcrabs.com/event/ww-hows-my-hat-3/
CATEGORIES:Music
END:VEVENT
BEGIN:VEVENT
DTSTART;TZID=America/New_York:20210731T180000
DTEND;TZID=America/New_York:20210731T210000
DTSTAMP:20260422T105059
CREATED:20210713T145218Z
LAST-MODIFIED:20210713T145218Z
UID:4127-1627754400-1627765200@wellwoodcrabs.com
SUMMARY:WW Tony Hancock
DESCRIPTION:A000
URL:https://wellwoodcrabs.com/event/ww-tony-hancock/
END:VEVENT
BEGIN:VEVENT
DTSTART;TZID=America/New_York:20210731T180000
DTEND;TZID=America/New_York:20210731T210000
DTSTAMP:20260422T105059
CREATED:20210412T195815Z
LAST-MODIFIED:20210713T145218Z
UID:3514-1627754400-1627765200@wellwoodcrabs.com
SUMMARY:RS Pete & Chris
DESCRIPTION:C00
URL:https://wellwoodcrabs.com/event/ww-pete-chris-2/
CATEGORIES:Music
END:VEVENT
BEGIN:VEVENT
DTSTART;TZID=America/New_York:20210730T180000
DTEND;TZID=America/New_York:20210730T210000
DTSTAMP:20260422T105059
CREATED:20210412T195814Z
LAST-MODIFIED:20210713T145217Z
UID:3512-1627668000-1627678800@wellwoodcrabs.com
SUMMARY:RS AJ Love
DESCRIPTION:AGE
URL:https://wellwoodcrabs.com/event/rs-aj-love-6/
CATEGORIES:Music
END:VEVENT
BEGIN:VEVENT
DTSTART;TZID=America/New_York:20210730T180000
DTEND;TZID=America/New_York:20210730T210000
DTSTAMP:20260422T105059
CREATED:20210412T195814Z
LAST-MODIFIED:20210713T145217Z
UID:3513-1627668000-1627678800@wellwoodcrabs.com
SUMMARY:WW Bleech
DESCRIPTION:A000
URL:https://wellwoodcrabs.com/event/ww-bleech-4/
CATEGORIES:Music
END:VEVENT
BEGIN:VEVENT
DTSTART;VALUE=DATE:20210730
DTEND;VALUE=DATE:20210731
DTSTAMP:20260422T105059
CREATED:20210602T202921Z
LAST-MODIFIED:20210726T162242Z
UID:4052-1627603200-1627689599@wellwoodcrabs.com
SUMMARY:Jimmy Buffet Night - Sons of Pirates
DESCRIPTION:GENERAL ADMISSION – $15/person\nIndividual tickets are purchased at the door of this event. Please bring your photo ID. Enjoy Key Lime Crush station\, tequila spiked Marga-Rita’s\, and \nLive Jimmy Buffett tribute performance by Sons of Pirates Band 7-11pm \nPRIVATE ISLAND (VIP TABLE) – SOLD OUT\nVIP PRIVATE ISLAND – $100/table\nReserve a private table for up to (8) guests. VIP gains early entry at 6pm with first access to food & drink. Enjoy an exclusive Margaritaville Happy Hour from 6-7pm with build-your-own margaritas! Bonus island goodies at your table. Includes all general admission amenities. \nLive Jimmy Buffett tribute performance by Sons of Pirates Band 7-11pm! \n 
URL:https://wellwoodcrabs.com/event/jimmy-buffet-night-sons-of-pirates/
LOCATION:Wellwood Pavilion\, 523 Water Street\, Charlestown\, MD\, 21914\, United States
CATEGORIES:Music,special event
ATTACH;FMTTYPE=image/png:https://wellwoodcrabs.com/wp-content/uploads/2021/06/Buffett-Parrothead.png
END:VEVENT
BEGIN:VEVENT
DTSTART;TZID=America/New_York:20210729T180000
DTEND;TZID=America/New_York:20210729T210000
DTSTAMP:20260422T105059
CREATED:20210412T195813Z
LAST-MODIFIED:20210713T145217Z
UID:3511-1627581600-1627592400@wellwoodcrabs.com
SUMMARY:WW - Conley & Watson
DESCRIPTION:CE0
URL:https://wellwoodcrabs.com/event/ww-conley-watson-5/
CATEGORIES:Music
END:VEVENT
BEGIN:VEVENT
DTSTART;TZID=America/New_York:20210728T180000
DTEND;TZID=America/New_York:20210728T210000
DTSTAMP:20260422T105059
CREATED:20210412T195813Z
LAST-MODIFIED:20210713T145217Z
UID:3510-1627495200-1627506000@wellwoodcrabs.com
SUMMARY:WW - Open Mic w/ Box Turtle Bob
DESCRIPTION:
URL:https://wellwoodcrabs.com/event/ww-open-mic-w-box-turtle-bob-10/
CATEGORIES:Music
END:VEVENT
BEGIN:VEVENT
DTSTART;TZID=America/New_York:20210727T180000
DTEND;TZID=America/New_York:20210727T210000
DTSTAMP:20260422T105059
CREATED:20210412T195813Z
LAST-MODIFIED:20210713T145217Z
UID:3509-1627408800-1627419600@wellwoodcrabs.com
SUMMARY:WW Dub Glenn
DESCRIPTION:BB0
URL:https://wellwoodcrabs.com/event/ww-dub-glenn-3/
CATEGORIES:Music
END:VEVENT
BEGIN:VEVENT
DTSTART;TZID=America/New_York:20210517T110000
DTEND;TZID=America/New_York:20210517T210000
DTSTAMP:20260422T105059
CREATED:20210517T193505Z
LAST-MODIFIED:20210907T185821Z
UID:3750-1621249200-1621285200@wellwoodcrabs.com
SUMMARY:River Shack Specials
DESCRIPTION:$5 Medium Cheese Pizza (Dine-in Only) \n$6 Mojitos \n$7 Orange Crushes
URL:https://wellwoodcrabs.com/event/river-shack-specials/
CATEGORIES:weekly special
ATTACH;FMTTYPE=image/jpeg:https://wellwoodcrabs.com/wp-content/uploads/2021/05/5-med-cheese-pizza-orange-crush-mojitos.jpg
END:VEVENT
BEGIN:VEVENT
DTSTART;TZID=America/New_York:20210725T183000
DTEND;TZID=America/New_York:20210725T193000
DTSTAMP:20260422T105059
CREATED:20210412T195812Z
LAST-MODIFIED:20210713T145217Z
UID:3507-1627237800-1627241400@wellwoodcrabs.com
SUMMARY:RS Box Turtle Bob
DESCRIPTION:
URL:https://wellwoodcrabs.com/event/rs-box-turtle-bob/
CATEGORIES:Music
END:VEVENT
BEGIN:VEVENT
DTSTART;TZID=America/New_York:20210725T173000
DTEND;TZID=America/New_York:20210725T210000
DTSTAMP:20260422T105059
CREATED:20210412T195812Z
LAST-MODIFIED:20210713T145217Z
UID:3508-1627234200-1627246800@wellwoodcrabs.com
SUMMARY:WW Something Borrowed
DESCRIPTION:E00
URL:https://wellwoodcrabs.com/event/ww-something-borrowed-3/
CATEGORIES:Music
END:VEVENT
BEGIN:VEVENT
DTSTART;TZID=America/New_York:20210724T180000
DTEND;TZID=America/New_York:20210724T210000
DTSTAMP:20260422T105059
CREATED:20210713T145217Z
LAST-MODIFIED:20210713T145217Z
UID:4125-1627149600-1627160400@wellwoodcrabs.com
SUMMARY:RS Billy Pierce Duo
DESCRIPTION:F00\, JT Sound BE0
URL:https://wellwoodcrabs.com/event/rs-billy-pierce-duo-2/
END:VEVENT
BEGIN:VEVENT
DTSTART;TZID=America/New_York:20210724T180000
DTEND;TZID=America/New_York:20210724T210000
DTSTAMP:20260422T105059
CREATED:20210412T195811Z
LAST-MODIFIED:20210713T145217Z
UID:3506-1627149600-1627160400@wellwoodcrabs.com
SUMMARY:WW Pete & Chris
DESCRIPTION:C00
URL:https://wellwoodcrabs.com/event/ww-pete-chris/
CATEGORIES:Music
END:VEVENT
BEGIN:VEVENT
DTSTART;TZID=America/New_York:20210723T180000
DTEND;TZID=America/New_York:20210723T210000
DTSTAMP:20260422T105059
CREATED:20210713T145217Z
LAST-MODIFIED:20210713T145217Z
UID:4124-1627063200-1627074000@wellwoodcrabs.com
SUMMARY:WW Crossroad
DESCRIPTION:
URL:https://wellwoodcrabs.com/event/ww-crossroad/
END:VEVENT
BEGIN:VEVENT
DTSTART;TZID=America/New_York:20210723T180000
DTEND;TZID=America/New_York:20210723T210000
DTSTAMP:20260422T105059
CREATED:20210412T195811Z
LAST-MODIFIED:20210713T145217Z
UID:3505-1627063200-1627074000@wellwoodcrabs.com
SUMMARY:RS Dub Glenn
DESCRIPTION:BB0
URL:https://wellwoodcrabs.com/event/rs-dub-glenn-5/
CATEGORIES:Music
END:VEVENT
BEGIN:VEVENT
DTSTART;TZID=America/New_York:20210722T180000
DTEND;TZID=America/New_York:20210722T210000
DTSTAMP:20260422T105059
CREATED:20210412T195811Z
LAST-MODIFIED:20210713T145217Z
UID:3504-1626976800-1626987600@wellwoodcrabs.com
SUMMARY:WW Jar's of Shine
DESCRIPTION:BE0
URL:https://wellwoodcrabs.com/event/ww-jars-of-shine-2/
CATEGORIES:Music
END:VEVENT
BEGIN:VEVENT
DTSTART;TZID=America/New_York:20210721T180000
DTEND;TZID=America/New_York:20210721T210000
DTSTAMP:20260422T105059
CREATED:20210412T195810Z
LAST-MODIFIED:20210713T145217Z
UID:3503-1626890400-1626901200@wellwoodcrabs.com
SUMMARY:WW - Open Mic w/ Box Turtle Bob
DESCRIPTION:
URL:https://wellwoodcrabs.com/event/ww-open-mic-w-box-turtle-bob-9/
CATEGORIES:Music
END:VEVENT
BEGIN:VEVENT
DTSTART;TZID=America/New_York:20210720T183000
DTEND;TZID=America/New_York:20210720T192000
DTSTAMP:20260422T105059
CREATED:20210713T145216Z
LAST-MODIFIED:20210713T145216Z
UID:4123-1626805800-1626808800@wellwoodcrabs.com
SUMMARY:WW - Will Topmson
DESCRIPTION:
URL:https://wellwoodcrabs.com/event/ww-will-topmson/
END:VEVENT
BEGIN:VEVENT
DTSTART;TZID=America/New_York:20210517T110000
DTEND;TZID=America/New_York:20210517T210000
DTSTAMP:20260422T105059
CREATED:20210517T193505Z
LAST-MODIFIED:20210907T185821Z
UID:3750-1621249200-1621285200@wellwoodcrabs.com
SUMMARY:River Shack Specials
DESCRIPTION:$5 Medium Cheese Pizza (Dine-in Only) \n$6 Mojitos \n$7 Orange Crushes
URL:https://wellwoodcrabs.com/event/river-shack-specials/
CATEGORIES:weekly special
ATTACH;FMTTYPE=image/jpeg:https://wellwoodcrabs.com/wp-content/uploads/2021/05/5-med-cheese-pizza-orange-crush-mojitos.jpg
END:VEVENT
BEGIN:VEVENT
DTSTART;TZID=America/New_York:20210718T173000
DTEND;TZID=America/New_York:20210718T210000
DTSTAMP:20260422T105059
CREATED:20210412T195810Z
LAST-MODIFIED:20210713T145216Z
UID:3502-1626629400-1626642000@wellwoodcrabs.com
SUMMARY:RS AJ Love
DESCRIPTION:AGE
URL:https://wellwoodcrabs.com/event/rs-aj-love-5/
CATEGORIES:Music
END:VEVENT
BEGIN:VEVENT
DTSTART;TZID=America/New_York:20210718T173000
DTEND;TZID=America/New_York:20210718T203000
DTSTAMP:20260422T105059
CREATED:20210412T195810Z
LAST-MODIFIED:20210713T145216Z
UID:3501-1626629400-1626640200@wellwoodcrabs.com
SUMMARY:WW How's My Hat
DESCRIPTION:DUO D00\nFULL E00
URL:https://wellwoodcrabs.com/event/ww-hows-my-hat-2/
CATEGORIES:Music
END:VEVENT
BEGIN:VEVENT
DTSTART;TZID=America/New_York:20210717T180000
DTEND;TZID=America/New_York:20210717T210000
DTSTAMP:20260422T105059
CREATED:20210412T195809Z
LAST-MODIFIED:20210713T145216Z
UID:3499-1626544800-1626555600@wellwoodcrabs.com
SUMMARY:RS Dustin Muller
DESCRIPTION:AE0
URL:https://wellwoodcrabs.com/event/rs-dustin-muller/
CATEGORIES:Music
END:VEVENT
BEGIN:VEVENT
DTSTART;TZID=America/New_York:20210717T180000
DTEND;TZID=America/New_York:20210717T210000
DTSTAMP:20260422T105059
CREATED:20210412T195809Z
LAST-MODIFIED:20210713T145216Z
UID:3500-1626544800-1626555600@wellwoodcrabs.com
SUMMARY:WW Acoustically Sound
DESCRIPTION:D00
URL:https://wellwoodcrabs.com/event/ww-acoustically-sound-3/
CATEGORIES:Music
END:VEVENT
BEGIN:VEVENT
DTSTART;TZID=America/New_York:20210716T180000
DTEND;TZID=America/New_York:20210716T210000
DTSTAMP:20260422T105059
CREATED:20210713T145216Z
LAST-MODIFIED:20210713T145216Z
UID:4122-1626458400-1626469200@wellwoodcrabs.com
SUMMARY:RS Jack Brainard
DESCRIPTION:B00
URL:https://wellwoodcrabs.com/event/rs-jack-brainard/
END:VEVENT
BEGIN:VEVENT
DTSTART;TZID=America/New_York:20210715T180000
DTEND;TZID=America/New_York:20210715T210000
DTSTAMP:20260422T105059
CREATED:20210412T195808Z
LAST-MODIFIED:20210713T145216Z
UID:3498-1626372000-1626382800@wellwoodcrabs.com
SUMMARY:WW - Conley & Watson
DESCRIPTION:CE0
URL:https://wellwoodcrabs.com/event/ww-conley-watson-4/
CATEGORIES:Music
END:VEVENT
BEGIN:VEVENT
DTSTART;TZID=America/New_York:20210714T180000
DTEND;TZID=America/New_York:20210714T210000
DTSTAMP:20260422T105059
CREATED:20210412T195808Z
LAST-MODIFIED:20210713T145216Z
UID:3497-1626285600-1626296400@wellwoodcrabs.com
SUMMARY:WW - Open Mic w/ Box Turtle Bob
DESCRIPTION:
URL:https://wellwoodcrabs.com/event/ww-open-mic-w-box-turtle-bob-8/
CATEGORIES:Music
END:VEVENT
BEGIN:VEVENT
DTSTART;TZID=America/New_York:20210713T173000
DTEND;TZID=America/New_York:20210713T210000
DTSTAMP:20260422T105059
CREATED:20210412T195808Z
LAST-MODIFIED:20210713T145216Z
UID:3496-1626197400-1626210000@wellwoodcrabs.com
SUMMARY:WW AJ Love
DESCRIPTION:AGE
URL:https://wellwoodcrabs.com/event/ww-aj-love-2/
CATEGORIES:Music
END:VEVENT
BEGIN:VEVENT
DTSTART;TZID=America/New_York:20210517T110000
DTEND;TZID=America/New_York:20210517T210000
DTSTAMP:20260422T105059
CREATED:20210517T193505Z
LAST-MODIFIED:20210907T185821Z
UID:3750-1621249200-1621285200@wellwoodcrabs.com
SUMMARY:River Shack Specials
DESCRIPTION:$5 Medium Cheese Pizza (Dine-in Only) \n$6 Mojitos \n$7 Orange Crushes
URL:https://wellwoodcrabs.com/event/river-shack-specials/
CATEGORIES:weekly special
ATTACH;FMTTYPE=image/jpeg:https://wellwoodcrabs.com/wp-content/uploads/2021/05/5-med-cheese-pizza-orange-crush-mojitos.jpg
END:VEVENT
END:VCALENDAR