BEGIN:VCALENDAR
VERSION:2.0
PRODID:-//The River Shack - ECPv6.15.20//NONSGML v1.0//EN
CALSCALE:GREGORIAN
METHOD:PUBLISH
X-WR-CALNAME:The River Shack
X-ORIGINAL-URL:https://wellwoodcrabs.com
X-WR-CALDESC:Events for The River Shack
REFRESH-INTERVAL;VALUE=DURATION:PT1H
X-Robots-Tag:noindex
X-PUBLISHED-TTL:PT1H
BEGIN:VTIMEZONE
TZID:America/New_York
BEGIN:DAYLIGHT
TZOFFSETFROM:-0500
TZOFFSETTO:-0400
TZNAME:EDT
DTSTART:20200308T070000
END:DAYLIGHT
BEGIN:STANDARD
TZOFFSETFROM:-0400
TZOFFSETTO:-0500
TZNAME:EST
DTSTART:20201101T060000
END:STANDARD
BEGIN:DAYLIGHT
TZOFFSETFROM:-0500
TZOFFSETTO:-0400
TZNAME:EDT
DTSTART:20210314T070000
END:DAYLIGHT
BEGIN:STANDARD
TZOFFSETFROM:-0400
TZOFFSETTO:-0500
TZNAME:EST
DTSTART:20211107T060000
END:STANDARD
BEGIN:DAYLIGHT
TZOFFSETFROM:-0500
TZOFFSETTO:-0400
TZNAME:EDT
DTSTART:20220313T070000
END:DAYLIGHT
BEGIN:STANDARD
TZOFFSETFROM:-0400
TZOFFSETTO:-0500
TZNAME:EST
DTSTART:20221106T060000
END:STANDARD
END:VTIMEZONE
BEGIN:VEVENT
DTSTART;TZID=America/New_York:20210915T180000
DTEND;TZID=America/New_York:20210915T210000
DTSTAMP:20260422T045652
CREATED:20210412T195835Z
LAST-MODIFIED:20210823T180952Z
UID:3556-1631728800-1631739600@wellwoodcrabs.com
SUMMARY:WW - Open Mic w/ Box Turtle Bob
DESCRIPTION:
URL:https://wellwoodcrabs.com/event/ww-open-mic-w-box-turtle-bob-17/
CATEGORIES:Music
END:VEVENT
BEGIN:VEVENT
DTSTART;TZID=America/New_York:20210913T110000
DTEND;TZID=America/New_York:20210913T210000
DTSTAMP:20260422T045652
CREATED:20210907T190122Z
LAST-MODIFIED:20210907T190403Z
UID:4454-1631530800-1631566800@wellwoodcrabs.com
SUMMARY:Last Day of The River Shack
DESCRIPTION:The River Shack is closing for the season after today. We look forward to seeing you all again when we re-open in the Spring of 2022!
URL:https://wellwoodcrabs.com/event/last-day-of-the-river-shack/
CATEGORIES:special event
ATTACH;FMTTYPE=image/png:https://wellwoodcrabs.com/wp-content/uploads/2021/09/River-Shack-Closing-e1631041377184.png
END:VEVENT
BEGIN:VEVENT
DTSTART;TZID=America/New_York:20210517T110000
DTEND;TZID=America/New_York:20210517T210000
DTSTAMP:20260422T045652
CREATED:20210517T193505Z
LAST-MODIFIED:20210907T185821Z
UID:3750-1621249200-1621285200@wellwoodcrabs.com
SUMMARY:River Shack Specials
DESCRIPTION:$5 Medium Cheese Pizza (Dine-in Only) \n$6 Mojitos \n$7 Orange Crushes
URL:https://wellwoodcrabs.com/event/river-shack-specials/
CATEGORIES:weekly special
ATTACH;FMTTYPE=image/jpeg:https://wellwoodcrabs.com/wp-content/uploads/2021/05/5-med-cheese-pizza-orange-crush-mojitos.jpg
END:VEVENT
BEGIN:VEVENT
DTSTART;TZID=America/New_York:20210912T173000
DTEND;TZID=America/New_York:20210912T180000
DTSTAMP:20260422T045652
CREATED:20210830T173922Z
LAST-MODIFIED:20210910T152135Z
UID:4239-1631467800-1631469600@wellwoodcrabs.com
SUMMARY:RS Dub Glen
DESCRIPTION:
URL:https://wellwoodcrabs.com/event/rs-dub-glen/
END:VEVENT
BEGIN:VEVENT
DTSTART;TZID=America/New_York:20210911T180000
DTEND;TZID=America/New_York:20210911T210000
DTSTAMP:20260422T045652
CREATED:20210412T195835Z
LAST-MODIFIED:20210830T173922Z
UID:3554-1631383200-1631394000@wellwoodcrabs.com
SUMMARY:WW Exit 93
DESCRIPTION:TRIO COO\nFULL F00
URL:https://wellwoodcrabs.com/event/ww-exit-93-6/
CATEGORIES:Music
END:VEVENT
BEGIN:VEVENT
DTSTART;TZID=America/New_York:20210911T180000
DTEND;TZID=America/New_York:20210911T210000
DTSTAMP:20260422T045652
CREATED:20210412T195835Z
LAST-MODIFIED:20210830T173922Z
UID:3555-1631383200-1631394000@wellwoodcrabs.com
SUMMARY:RS Pete & Chris
DESCRIPTION:
URL:https://wellwoodcrabs.com/event/rs-pete-chris-6/
CATEGORIES:Music
END:VEVENT
BEGIN:VEVENT
DTSTART;TZID=America/New_York:20210910T183000
DTEND;TZID=America/New_York:20210910T223000
DTSTAMP:20260422T045652
CREATED:20210910T132550Z
LAST-MODIFIED:20210910T132550Z
UID:4460-1631298600-1631313000@wellwoodcrabs.com
SUMMARY:WW- Syde 2
DESCRIPTION:
URL:https://wellwoodcrabs.com/event/ww-syde-2/
CATEGORIES:Music
END:VEVENT
BEGIN:VEVENT
DTSTART;TZID=America/New_York:20210909T180000
DTEND;TZID=America/New_York:20210909T210000
DTSTAMP:20260422T045652
CREATED:20210412T195834Z
LAST-MODIFIED:20210830T173922Z
UID:3553-1631210400-1631221200@wellwoodcrabs.com
SUMMARY:WW - Conley & Watson
DESCRIPTION:350
URL:https://wellwoodcrabs.com/event/ww-conley-watson-8/
CATEGORIES:Music
END:VEVENT
BEGIN:VEVENT
DTSTART;TZID=America/New_York:20210908T180000
DTEND;TZID=America/New_York:20210908T185000
DTSTAMP:20260422T045652
CREATED:20210830T173922Z
LAST-MODIFIED:20210830T173922Z
UID:4238-1631124000-1631127000@wellwoodcrabs.com
SUMMARY:WW - Open Mic w/ Box Turtle Bob
DESCRIPTION:
URL:https://wellwoodcrabs.com/event/ww-open-mic-w-box-turtle-bob-120/
END:VEVENT
BEGIN:VEVENT
DTSTART;TZID=America/New_York:20210907T180000
DTEND;TZID=America/New_York:20210907T210000
DTSTAMP:20260422T045652
CREATED:20210412T195834Z
LAST-MODIFIED:20210830T173922Z
UID:3551-1631037600-1631048400@wellwoodcrabs.com
SUMMARY:WW Dub Glenn
DESCRIPTION:BB0
URL:https://wellwoodcrabs.com/event/ww-dub-glenn-6/
CATEGORIES:Music
END:VEVENT
BEGIN:VEVENT
DTSTART;TZID=America/New_York:20210517T110000
DTEND;TZID=America/New_York:20210517T210000
DTSTAMP:20260422T045652
CREATED:20210517T193505Z
LAST-MODIFIED:20210907T185821Z
UID:3750-1621249200-1621285200@wellwoodcrabs.com
SUMMARY:River Shack Specials
DESCRIPTION:$5 Medium Cheese Pizza (Dine-in Only) \n$6 Mojitos \n$7 Orange Crushes
URL:https://wellwoodcrabs.com/event/river-shack-specials/
CATEGORIES:weekly special
ATTACH;FMTTYPE=image/jpeg:https://wellwoodcrabs.com/wp-content/uploads/2021/05/5-med-cheese-pizza-orange-crush-mojitos.jpg
END:VEVENT
BEGIN:VEVENT
DTSTART;TZID=America/New_York:20210905T180000
DTEND;TZID=America/New_York:20210905T183000
DTSTAMP:20260422T045652
CREATED:20210830T173921Z
LAST-MODIFIED:20210830T173921Z
UID:4237-1630864800-1630866600@wellwoodcrabs.com
SUMMARY:WW Big Toe
DESCRIPTION:
URL:https://wellwoodcrabs.com/event/ww-big-toe/
END:VEVENT
BEGIN:VEVENT
DTSTART;TZID=America/New_York:20210904T190000
DTEND;TZID=America/New_York:20210904T200000
DTSTAMP:20260422T045652
CREATED:20210412T195833Z
LAST-MODIFIED:20210830T173921Z
UID:3548-1630782000-1630785600@wellwoodcrabs.com
SUMMARY:WW Breeze Band
DESCRIPTION:
URL:https://wellwoodcrabs.com/event/ww-breeze-band-4/
CATEGORIES:Music
END:VEVENT
BEGIN:VEVENT
DTSTART;TZID=America/New_York:20210904T183000
DTEND;TZID=America/New_York:20210904T213000
DTSTAMP:20260422T045652
CREATED:20210412T195833Z
LAST-MODIFIED:20210830T173921Z
UID:3549-1630780200-1630791000@wellwoodcrabs.com
SUMMARY:RS Dub Glenn
DESCRIPTION:BB0
URL:https://wellwoodcrabs.com/event/rs-dub-glenn-8/
CATEGORIES:Music
END:VEVENT
BEGIN:VEVENT
DTSTART;TZID=America/New_York:20210903T180000
DTEND;TZID=America/New_York:20210903T210000
DTSTAMP:20260422T045652
CREATED:20210412T195833Z
LAST-MODIFIED:20210830T173921Z
UID:3547-1630692000-1630702800@wellwoodcrabs.com
SUMMARY:WW Bleech
DESCRIPTION:A000
URL:https://wellwoodcrabs.com/event/ww-bleech-6/
CATEGORIES:Music
END:VEVENT
BEGIN:VEVENT
DTSTART;TZID=America/New_York:20210903T180000
DTEND;TZID=America/New_York:20210903T210000
DTSTAMP:20260422T045652
CREATED:20210412T195832Z
LAST-MODIFIED:20210830T173921Z
UID:3546-1630692000-1630702800@wellwoodcrabs.com
SUMMARY:RS AJ Love
DESCRIPTION:AGE
URL:https://wellwoodcrabs.com/event/rs-aj-love-8/
CATEGORIES:Music
END:VEVENT
BEGIN:VEVENT
DTSTART;TZID=America/New_York:20210902T173000
DTEND;TZID=America/New_York:20210902T182000
DTSTAMP:20260422T045652
CREATED:20210830T173921Z
LAST-MODIFIED:20210830T173921Z
UID:4236-1630603800-1630606800@wellwoodcrabs.com
SUMMARY:WW Conley & Watson
DESCRIPTION:
URL:https://wellwoodcrabs.com/event/ww-conley-watson-9/
END:VEVENT
BEGIN:VEVENT
DTSTART;TZID=America/New_York:20210901T180000
DTEND;TZID=America/New_York:20210901T185000
DTSTAMP:20260422T045652
CREATED:20210830T173921Z
LAST-MODIFIED:20210830T173921Z
UID:4235-1630519200-1630522200@wellwoodcrabs.com
SUMMARY:WW - Open Mic w/ Box Turtle Bob
DESCRIPTION:
URL:https://wellwoodcrabs.com/event/ww-open-mic-w-box-turtle-bob-119/
END:VEVENT
BEGIN:VEVENT
DTSTART;TZID=America/New_York:20210829T180000
DTEND;TZID=America/New_York:20210829T210000
DTSTAMP:20260422T045652
CREATED:20210412T195832Z
LAST-MODIFIED:20210830T175835Z
UID:3543-1630260000-1630270800@wellwoodcrabs.com
SUMMARY:WW - Syde 2
DESCRIPTION:E00
URL:https://wellwoodcrabs.com/event/ww-something-borrowed-4/
CATEGORIES:Music
END:VEVENT
BEGIN:VEVENT
DTSTART;TZID=America/New_York:20210828T180000
DTEND;TZID=America/New_York:20210828T210000
DTSTAMP:20260422T045652
CREATED:20210412T195831Z
LAST-MODIFIED:20210823T180950Z
UID:3541-1630173600-1630184400@wellwoodcrabs.com
SUMMARY:RS Pete & Chris
DESCRIPTION:C00
URL:https://wellwoodcrabs.com/event/rs-pete-chris-5/
CATEGORIES:Music
END:VEVENT
BEGIN:VEVENT
DTSTART;TZID=America/New_York:20210828T180000
DTEND;TZID=America/New_York:20210828T190000
DTSTAMP:20260422T045652
CREATED:20210412T195831Z
LAST-MODIFIED:20210830T175928Z
UID:3542-1630173600-1630177200@wellwoodcrabs.com
SUMMARY:WW Skippy's Toy
DESCRIPTION:
URL:https://wellwoodcrabs.com/event/ww-prime-time-2/
CATEGORIES:Music
END:VEVENT
BEGIN:VEVENT
DTSTART;TZID=America/New_York:20210827T183000
DTEND;TZID=America/New_York:20210827T193000
DTSTAMP:20260422T045652
CREATED:20210412T195831Z
LAST-MODIFIED:20210823T180950Z
UID:3539-1630089000-1630092600@wellwoodcrabs.com
SUMMARY:WW Crossroads
DESCRIPTION:
URL:https://wellwoodcrabs.com/event/ww-crossroads/
CATEGORIES:Music
END:VEVENT
BEGIN:VEVENT
DTSTART;TZID=America/New_York:20210827T180000
DTEND;TZID=America/New_York:20210827T210000
DTSTAMP:20260422T045652
CREATED:20210412T195831Z
LAST-MODIFIED:20210823T180950Z
UID:3540-1630087200-1630098000@wellwoodcrabs.com
SUMMARY:RS AJ Love
DESCRIPTION:AGE
URL:https://wellwoodcrabs.com/event/rs-aj-love-7/
CATEGORIES:Music
END:VEVENT
BEGIN:VEVENT
DTSTART;TZID=America/New_York:20210826T180000
DTEND;TZID=America/New_York:20210826T210000
DTSTAMP:20260422T045652
CREATED:20210412T195830Z
LAST-MODIFIED:20210823T180950Z
UID:3538-1630000800-1630011600@wellwoodcrabs.com
SUMMARY:WW Conley & Watson
DESCRIPTION:CE0
URL:https://wellwoodcrabs.com/event/ww-conley-watson-7/
CATEGORIES:Music
END:VEVENT
BEGIN:VEVENT
DTSTART;TZID=America/New_York:20210825T180000
DTEND;TZID=America/New_York:20210825T210000
DTSTAMP:20260422T045652
CREATED:20210412T195830Z
LAST-MODIFIED:20210823T180950Z
UID:3537-1629914400-1629925200@wellwoodcrabs.com
SUMMARY:WW - Open Mic w/ Box Turtle Bob
DESCRIPTION:AEO
URL:https://wellwoodcrabs.com/event/ww-open-mic-w-box-turtle-bob-14/
CATEGORIES:Music
END:VEVENT
BEGIN:VEVENT
DTSTART;TZID=America/New_York:20210824T170000
DTEND;TZID=America/New_York:20210824T210000
DTSTAMP:20260422T045652
CREATED:20210412T195829Z
LAST-MODIFIED:20210823T180950Z
UID:3536-1629824400-1629838800@wellwoodcrabs.com
SUMMARY:WW Dub Glenn
DESCRIPTION:BB0
URL:https://wellwoodcrabs.com/event/ww-dub-glenn-5/
CATEGORIES:Music
END:VEVENT
BEGIN:VEVENT
DTSTART;TZID=America/New_York:20210517T110000
DTEND;TZID=America/New_York:20210517T210000
DTSTAMP:20260422T045652
CREATED:20210517T193505Z
LAST-MODIFIED:20210907T185821Z
UID:3750-1621249200-1621285200@wellwoodcrabs.com
SUMMARY:River Shack Specials
DESCRIPTION:$5 Medium Cheese Pizza (Dine-in Only) \n$6 Mojitos \n$7 Orange Crushes
URL:https://wellwoodcrabs.com/event/river-shack-specials/
CATEGORIES:weekly special
ATTACH;FMTTYPE=image/jpeg:https://wellwoodcrabs.com/wp-content/uploads/2021/05/5-med-cheese-pizza-orange-crush-mojitos.jpg
END:VEVENT
BEGIN:VEVENT
DTSTART;TZID=America/New_York:20210822T180000
DTEND;TZID=America/New_York:20210822T190000
DTSTAMP:20260422T045652
CREATED:20210412T195829Z
LAST-MODIFIED:20210713T145220Z
UID:3535-1629655200-1629658800@wellwoodcrabs.com
SUMMARY:Rick Sommers
DESCRIPTION:
URL:https://wellwoodcrabs.com/event/rick-sommers/
CATEGORIES:Music
END:VEVENT
BEGIN:VEVENT
DTSTART;TZID=America/New_York:20210821T180000
DTEND;TZID=America/New_York:20210821T210000
DTSTAMP:20260422T045652
CREATED:20210412T195828Z
LAST-MODIFIED:20210713T145219Z
UID:3534-1629568800-1629579600@wellwoodcrabs.com
SUMMARY:WW Pete & Chris
DESCRIPTION:C00
URL:https://wellwoodcrabs.com/event/ww-pete-chris-3/
CATEGORIES:Music
END:VEVENT
BEGIN:VEVENT
DTSTART;TZID=America/New_York:20210821T180000
DTEND;TZID=America/New_York:20210821T210000
DTSTAMP:20260422T045652
CREATED:20210412T195828Z
LAST-MODIFIED:20210713T145220Z
UID:3533-1629568800-1629579600@wellwoodcrabs.com
SUMMARY:RS Dustin Muller
DESCRIPTION:BB0
URL:https://wellwoodcrabs.com/event/rs-dustin-muller-2/
CATEGORIES:Music
END:VEVENT
END:VCALENDAR