BEGIN:VCALENDAR
VERSION:2.0
PRODID:-//The River Shack - ECPv6.15.20//NONSGML v1.0//EN
CALSCALE:GREGORIAN
METHOD:PUBLISH
X-WR-CALNAME:The River Shack
X-ORIGINAL-URL:https://wellwoodcrabs.com
X-WR-CALDESC:Events for The River Shack
REFRESH-INTERVAL;VALUE=DURATION:PT1H
X-Robots-Tag:noindex
X-PUBLISHED-TTL:PT1H
BEGIN:VTIMEZONE
TZID:America/New_York
BEGIN:DAYLIGHT
TZOFFSETFROM:-0500
TZOFFSETTO:-0400
TZNAME:EDT
DTSTART:20200308T070000
END:DAYLIGHT
BEGIN:STANDARD
TZOFFSETFROM:-0400
TZOFFSETTO:-0500
TZNAME:EST
DTSTART:20201101T060000
END:STANDARD
BEGIN:DAYLIGHT
TZOFFSETFROM:-0500
TZOFFSETTO:-0400
TZNAME:EDT
DTSTART:20210314T070000
END:DAYLIGHT
BEGIN:STANDARD
TZOFFSETFROM:-0400
TZOFFSETTO:-0500
TZNAME:EST
DTSTART:20211107T060000
END:STANDARD
BEGIN:DAYLIGHT
TZOFFSETFROM:-0500
TZOFFSETTO:-0400
TZNAME:EDT
DTSTART:20220313T070000
END:DAYLIGHT
BEGIN:STANDARD
TZOFFSETFROM:-0400
TZOFFSETTO:-0500
TZNAME:EST
DTSTART:20221106T060000
END:STANDARD
BEGIN:DAYLIGHT
TZOFFSETFROM:-0500
TZOFFSETTO:-0400
TZNAME:EDT
DTSTART:20230312T070000
END:DAYLIGHT
BEGIN:STANDARD
TZOFFSETFROM:-0400
TZOFFSETTO:-0500
TZNAME:EST
DTSTART:20231105T060000
END:STANDARD
END:VTIMEZONE
BEGIN:VEVENT
DTSTART;TZID=America/New_York:20220514T190000
DTEND;TZID=America/New_York:20220514T230000
DTSTAMP:20260422T024603
CREATED:20220506T145440Z
LAST-MODIFIED:20220513T152210Z
UID:4591-1652554800-1652569200@wellwoodcrabs.com
SUMMARY:WW Big Toe
DESCRIPTION:G00
URL:https://wellwoodcrabs.com/event/ww-big-toe-4/
LOCATION:Wellwood
END:VEVENT
BEGIN:VEVENT
DTSTART;TZID=America/New_York:20220508T110000
DTEND;TZID=America/New_York:20220508T160000
DTSTAMP:20260422T024603
CREATED:20220420T204553Z
LAST-MODIFIED:20220420T204623Z
UID:4579-1652007600-1652025600@wellwoodcrabs.com
SUMMARY:Mother's Day Buffet
DESCRIPTION:
URL:https://wellwoodcrabs.com/event/mothers-day-buffet/
CATEGORIES:special event
ATTACH;FMTTYPE=image/png:https://wellwoodcrabs.com/wp-content/uploads/2022/04/Mothers-Day-2022.png
END:VEVENT
BEGIN:VEVENT
DTSTART;TZID=America/New_York:20220417T110000
DTEND;TZID=America/New_York:20220417T160000
DTSTAMP:20260422T024603
CREATED:20220315T200215Z
LAST-MODIFIED:20220315T200542Z
UID:4562-1650193200-1650211200@wellwoodcrabs.com
SUMMARY:Easter Buffet
DESCRIPTION:410-287-6666\nMAKE YOUR EASTER RESERVATIONS\n \nSEE FULL MENU
URL:https://wellwoodcrabs.com/event/4562/
CATEGORIES:special event
ATTACH;FMTTYPE=image/jpeg:https://wellwoodcrabs.com/wp-content/uploads/2022/03/Easter-2022-pop-up.jpg
END:VEVENT
BEGIN:VEVENT
DTSTART;VALUE=DATE:20220226
DTEND;VALUE=DATE:20220227
DTSTAMP:20260422T024603
CREATED:20211213T182517Z
LAST-MODIFIED:20211213T182525Z
UID:4524-1645833600-1645919999@wellwoodcrabs.com
SUMMARY:Save the Date - Annual Ice Splash
DESCRIPTION:Wellwood is once again hosting the Annual Ice Splash benefitting Special Olympics. Stop back soon for details.
URL:https://wellwoodcrabs.com/event/save-the-date-annual-ice-splash/
CATEGORIES:special event
END:VEVENT
BEGIN:VEVENT
DTSTART;TZID=America/New_York:20220214T080000
DTEND;TZID=America/New_York:20220214T213000
DTSTAMP:20260422T024603
CREATED:20211213T182057Z
LAST-MODIFIED:20220128T151848Z
UID:4520-1644825600-1644874200@wellwoodcrabs.com
SUMMARY:Reserve Your Spot - Valentine's Candlelit Dinner
DESCRIPTION:CALL FOR RESERVATIONS: 410-287-6666
URL:https://wellwoodcrabs.com/event/save-the-date-valentines-candle-lit-dinner/
CATEGORIES:special event
ATTACH;FMTTYPE=image/png:https://wellwoodcrabs.com/wp-content/uploads/2021/12/Pink-Valentines-Day-Sale-Poster.png
END:VEVENT
BEGIN:VEVENT
DTSTART;VALUE=DATE:20220212
DTEND;VALUE=DATE:20220213
DTSTAMP:20260422T024603
CREATED:20211213T182332Z
LAST-MODIFIED:20220104T155230Z
UID:4522-1644624000-1644710399@wellwoodcrabs.com
SUMMARY:Save the Date - Comedy Night
DESCRIPTION:BUY TICKETS \nDinner and Adult Comedy Show hosted by Patrick O’Donnell. Featured performer Ed McGonigal can be heard on Philly radio WIP. Headlining Chris Coccia. Chris Coccia’s act is a perfect combination of hilarious material and the ability to present it “in the moment”. Flowing seamlessly between material and improvised interaction with the crowd\, Chris is able to open the audience up as he pulls them into a shared recognition of our own human-ness.\nDoors open at 6p\nMeal served at 6:15pm\nShow starts at 7:15pm\nWe have coordinated this event with buffer space between tables to help maintain social distancing. Please let us know if you have purchased multiple tables so we can seat you nearby.\nMenu:\nAppetizer: Fried Ravioli with spicy marinara\nSalad: Mixed greens with chick peas\, tomato\, shaved red onion\, English cucumber\, house-made croutons\, apple cider vinaigrette\nEntrée: Apple-garlic glazed chicken with baked potato and seasonal vegetable medley\nDessert: Cheesecake with fresh berries & whipped cream\nGuests should purchase their tickets on line in advance (by table
URL:https://wellwoodcrabs.com/event/save-the-date-comedy-night/
CATEGORIES:special event,ticketed event
ATTACH;FMTTYPE=image/jpeg:https://wellwoodcrabs.com/wp-content/uploads/2021/12/271276318_5403929166290643_6382409792103511638_n.jpg
END:VEVENT
BEGIN:VEVENT
DTSTART;TZID=America/New_York:20220205T180000
DTEND;TZID=America/New_York:20220205T230000
DTSTAMP:20260422T024603
CREATED:20220106T204251Z
LAST-MODIFIED:20220106T204251Z
UID:4538-1644084000-1644102000@wellwoodcrabs.com
SUMMARY:Winter Dance Party
DESCRIPTION:Dance all night — live music with Big Toe\nBUY TICKETS \nBeat the Winter Blues and Shake off the frost at our Winter Dance Party. Big Toe promises a fun night of high energy rock n roll with crazy fun. Food & cocktails available for purchase inside venue. No outside food or alcohol permitted. You must be over the age of 21 with valid ID to be served alcohol. Print your ticket confirmations and bring with you to Pavilion entrance when checking into event. \nTable of Four – $48+$4.55 Fee \nTable of Six – $72+$6.01 Fee \nTable of Eight – $96+$7.47 Fee \nWellwood Pavilion \n523 Water Street \nCharlestown\, MD 21914
URL:https://wellwoodcrabs.com/event/winter-dance-party/
LOCATION:Wellwood Pavilion\, 523 Water Street\, Charlestown\, MD\, 21914\, United States
CATEGORIES:Music,special event,ticketed event
END:VEVENT
BEGIN:VEVENT
DTSTART;TZID=America/New_York:20220126T113000
DTEND;TZID=America/New_York:20220126T213000
DTSTAMP:20260422T024603
CREATED:20211213T181857Z
LAST-MODIFIED:20211213T181904Z
UID:4518-1643196600-1643232600@wellwoodcrabs.com
SUMMARY:Wellwood Reopens After Renovations
DESCRIPTION:
URL:https://wellwoodcrabs.com/event/wellwood-reopens-after-renovations/
CATEGORIES:special event
END:VEVENT
BEGIN:VEVENT
DTSTART;TZID=America/New_York:20220103T110000
DTEND;TZID=America/New_York:20220125T230000
DTSTAMP:20260422T024603
CREATED:20211213T181633Z
LAST-MODIFIED:20211213T181633Z
UID:4516-1641207600-1643151600@wellwoodcrabs.com
SUMMARY:Closed for Renovations
DESCRIPTION:The Wellwood Club will be closed beginning January 3\, 2022 to January 25\, 2022 for renovations. Thank you for your understanding. We will reopen on Wednesday\, January 26\, 2022
URL:https://wellwoodcrabs.com/event/closed-for-renovations/
CATEGORIES:special event
END:VEVENT
BEGIN:VEVENT
DTSTART;VALUE=DATE:20211231
DTEND;VALUE=DATE:20220101
DTSTAMP:20260422T024603
CREATED:20211213T182743Z
LAST-MODIFIED:20211213T182831Z
UID:4526-1640908800-1640995199@wellwoodcrabs.com
SUMMARY:New Years Eve at The Wellwood
DESCRIPTION:Make The Wellwood your celebration spot to ring in the New Year! More Details Coming Soon! Make your reservations by calling 410-287-6666
URL:https://wellwoodcrabs.com/event/new-years-eve-at-the-wellwood/
CATEGORIES:special event
END:VEVENT
BEGIN:VEVENT
DTSTART;VALUE=DATE:20211218
DTEND;VALUE=DATE:20211219
DTSTAMP:20260422T024603
CREATED:20211122T175452Z
LAST-MODIFIED:20211130T165706Z
UID:4505-1639785600-1639871999@wellwoodcrabs.com
SUMMARY:Save the Date - Christmas at The Wellwood
DESCRIPTION:Join us for our Annual Christmas at the Wellwood celebration Saturday December 18\, 2021. \nMake your reservations by calling 410-287-6666. \nSee you then!\n#wellwoodrestaurant #celebratetheholidays #santashere #begoodforgoodnesssake
URL:https://wellwoodcrabs.com/event/save-the-date-christmas-at-the-wellwood/
CATEGORIES:special event
ATTACH;FMTTYPE=image/png:https://wellwoodcrabs.com/wp-content/uploads/2021/11/Christmas-at-the-Wellwood-fi.png
END:VEVENT
BEGIN:VEVENT
DTSTART;TZID=America/New_York:20211125T120000
DTEND;TZID=America/New_York:20211125T180000
DTSTAMP:20260422T024603
CREATED:20211027T194818Z
LAST-MODIFIED:20211027T194955Z
UID:4490-1637841600-1637863200@wellwoodcrabs.com
SUMMARY:Thanksgiving Buffet is Back!!
DESCRIPTION:The Wellwood\nThanksgiving Buffet is Back!\nThursday November 25th ~ Seating from 12 pm to 6 pm \nAdults $47.99 | Children (5-12) $19.99 \nCALL FOR RESERVATIONS \nCLICK FOR MENU ▼
URL:https://wellwoodcrabs.com/event/thanksgiving-buffet-is-back/
CATEGORIES:special event
ATTACH;FMTTYPE=image/png:https://wellwoodcrabs.com/wp-content/uploads/2021/10/Copy-of-2021-thanksgiving-buffet1.png
END:VEVENT
BEGIN:VEVENT
DTSTART;TZID=America/New_York:20211124T140000
DTEND;TZID=America/New_York:20211124T180000
DTSTAMP:20260422T024603
CREATED:20211122T171820Z
LAST-MODIFIED:20211122T171820Z
UID:4502-1637762400-1637776800@wellwoodcrabs.com
SUMMARY:Pick Up Your Thanksgiving Order Heat & Serve Family Meals
DESCRIPTION:Pick Up Your Pre-Ordered\nThanksgiving Heat & Serve Family Meals\nOrders placed online by 3pm Sunday\, November 21st\nPick up at ‘The River Shack To Go Window’\nWednesday November 24th between 2 and 6 pm
URL:https://wellwoodcrabs.com/event/pick-up-your-thanksgiving-order-heat-serve-family-meals/
LOCATION:River Shack\, 523 Water Street\, Charlestown\, MD\, 21914\, United States
CATEGORIES:special event
ATTACH;FMTTYPE=image/jpeg:https://wellwoodcrabs.com/wp-content/uploads/2021/11/Copy-of-2021-THANKSGIVING-togo1-scaled.jpg
END:VEVENT
BEGIN:VEVENT
DTSTART;TZID=America/New_York:20211112T113000
DTEND;TZID=America/New_York:20211121T150000
DTSTAMP:20260422T024603
CREATED:20211112T192126Z
LAST-MODIFIED:20211112T192126Z
UID:4499-1636716600-1637506800@wellwoodcrabs.com
SUMMARY:Order Thanksgiving Heat & Serve Family Meals
DESCRIPTION:The Wellwood is offering\nThanksgiving Heat & Serve Family Meals\nOrder online by 3pm Sunday\, November 21st\nPick up at ‘The River Shack To Go Window’\nWednesday November 24th between 2 and 6 pm \nORDER ONLINE
URL:https://wellwoodcrabs.com/event/order-thanksgiving-heat-serve-family-meals/
CATEGORIES:special event
ATTACH;FMTTYPE=image/jpeg:https://wellwoodcrabs.com/wp-content/uploads/2021/11/Copy-of-2021-THANKSGIVING-togo1-scaled.jpg
END:VEVENT
BEGIN:VEVENT
DTSTART;TZID=America/New_York:20211009T183000
DTEND;TZID=America/New_York:20211009T213000
DTSTAMP:20260422T024603
CREATED:20211008T165924Z
LAST-MODIFIED:20211008T165924Z
UID:4483-1633804200-1633815000@wellwoodcrabs.com
SUMMARY:WW- Conley & Watson
DESCRIPTION:
URL:https://wellwoodcrabs.com/event/ww-conley-watson-10/
END:VEVENT
BEGIN:VEVENT
DTSTART;TZID=America/New_York:20211008T183000
DTEND;TZID=America/New_York:20211008T213000
DTSTAMP:20260422T024603
CREATED:20211008T165717Z
LAST-MODIFIED:20211008T165717Z
UID:4480-1633717800-1633728600@wellwoodcrabs.com
SUMMARY:WW- Exit 93
DESCRIPTION:
URL:https://wellwoodcrabs.com/event/ww-exit-93-7/
CATEGORIES:Music
END:VEVENT
BEGIN:VEVENT
DTSTART;TZID=America/New_York:20211007T183000
DTEND;TZID=America/New_York:20211007T213000
DTSTAMP:20260422T024603
CREATED:20210929T160715Z
LAST-MODIFIED:20210929T160715Z
UID:4472-1633631400-1633642200@wellwoodcrabs.com
SUMMARY:Cecil Grown Harvest Dinner
DESCRIPTION:Annual Cecil Grown Harvest Dinner (2021) \nBUY TICKETS NOW! \nJoin us on Thursday\, October 7\, 2021 at The Wellwood for the 2021 Cecil Grown Harvest Dinner. The Cecil Grown Harvest Dinner is an annual celebration of our farmers showcasing the diversity of agriculture in Cecil County. This year’s dinner menu has been curated by The Wellwood\, serving a three-course\, buffet style meal using nearly 100% local ingredients. \nTickets include appetizers\, a variety of main courses\, and dessert highlighting our local producers. Non-alcoholic beverages are also included in the ticket price. There will be a cash bar featuring 4 Cecil County craft beverages; 2 wineries and 2 breweries. \nTHE WELLWOOD PAVILION 523 Water St – Charlestown\, MD 21914 / wellwoodclub.com / 410-287-6666 \nOur indoor tented Pavilion sits adjacent to the Wellwood Restaurant. Event is sold by table to help accommodate both our guests & staff. Doors open at 6:30pm with appetizers. Buffet available starting 7pm. \nWe have coordinated this event with buffer space between tables to help maintain social distancing. Please let us know if you have purchased multiple tables or individual guest tickets so we can seat you nearby. \nAdditional questions can be referred to The Wellwood (410) 287-6666.
URL:https://wellwoodcrabs.com/event/cecil-grown-harvest-dinner/
CATEGORIES:special event
ATTACH;FMTTYPE=image/png:https://wellwoodcrabs.com/wp-content/uploads/2021/09/cecil-harvest-dinner-240x300-1.png
END:VEVENT
BEGIN:VEVENT
DTSTART;TZID=America/New_York:20211002T180000
DTEND;TZID=America/New_York:20211002T220000
DTSTAMP:20260422T024603
CREATED:20210930T140958Z
LAST-MODIFIED:20211002T200313Z
UID:4477-1633197600-1633212000@wellwoodcrabs.com
SUMMARY:WW- Big Toe
DESCRIPTION:
URL:https://wellwoodcrabs.com/event/ww-big-toe-3/
END:VEVENT
BEGIN:VEVENT
DTSTART;TZID=America/New_York:20211001T183000
DTEND;TZID=America/New_York:20211001T213000
DTSTAMP:20260422T024603
CREATED:20210930T140921Z
LAST-MODIFIED:20210930T140921Z
UID:4475-1633113000-1633123800@wellwoodcrabs.com
SUMMARY:WW - Bleech
DESCRIPTION:
URL:https://wellwoodcrabs.com/event/ww-bleech-7/
CATEGORIES:Music
END:VEVENT
BEGIN:VEVENT
DTSTART;TZID=America/New_York:20210926T153000
DTEND;TZID=America/New_York:20210926T183000
DTSTAMP:20260422T024603
CREATED:20210412T195836Z
LAST-MODIFIED:20210924T134234Z
UID:3560-1632670200-1632681000@wellwoodcrabs.com
SUMMARY:WW Dub Glenn
DESCRIPTION:
URL:https://wellwoodcrabs.com/event/ww-dub-glenn-7/
CATEGORIES:Music
END:VEVENT
BEGIN:VEVENT
DTSTART;TZID=America/New_York:20210925T183000
DTEND;TZID=America/New_York:20210925T223000
DTSTAMP:20260422T024603
CREATED:20210923T135052Z
LAST-MODIFIED:20210924T134422Z
UID:4469-1632594600-1632609000@wellwoodcrabs.com
SUMMARY:WW Full Band New Direction
DESCRIPTION:
URL:https://wellwoodcrabs.com/event/ww-big-toe-2/
CATEGORIES:Music
END:VEVENT
BEGIN:VEVENT
DTSTART;TZID=America/New_York:20210924T183000
DTEND;TZID=America/New_York:20210924T223000
DTSTAMP:20260422T024603
CREATED:20210923T135011Z
LAST-MODIFIED:20210923T135011Z
UID:4467-1632508200-1632522600@wellwoodcrabs.com
SUMMARY:WW A Different Breed
DESCRIPTION:
URL:https://wellwoodcrabs.com/event/ww-a-different-breed/
CATEGORIES:Music
END:VEVENT
BEGIN:VEVENT
DTSTART;TZID=America/New_York:20210918T180000
DTEND;TZID=America/New_York:20210918T210000
DTSTAMP:20260422T024603
CREATED:20210412T195836Z
LAST-MODIFIED:20210830T173923Z
UID:3558-1631988000-1631998800@wellwoodcrabs.com
SUMMARY:WW Acoustically Sound
DESCRIPTION:
URL:https://wellwoodcrabs.com/event/ww-acoustically-sound-5/
CATEGORIES:Music
END:VEVENT
BEGIN:VEVENT
DTSTART;TZID=America/New_York:20210915T180000
DTEND;TZID=America/New_York:20210915T210000
DTSTAMP:20260422T024603
CREATED:20210412T195835Z
LAST-MODIFIED:20210823T180952Z
UID:3556-1631728800-1631739600@wellwoodcrabs.com
SUMMARY:WW - Open Mic w/ Box Turtle Bob
DESCRIPTION:
URL:https://wellwoodcrabs.com/event/ww-open-mic-w-box-turtle-bob-17/
CATEGORIES:Music
END:VEVENT
BEGIN:VEVENT
DTSTART;TZID=America/New_York:20210913T110000
DTEND;TZID=America/New_York:20210913T210000
DTSTAMP:20260422T024603
CREATED:20210907T190122Z
LAST-MODIFIED:20210907T190403Z
UID:4454-1631530800-1631566800@wellwoodcrabs.com
SUMMARY:Last Day of The River Shack
DESCRIPTION:The River Shack is closing for the season after today. We look forward to seeing you all again when we re-open in the Spring of 2022!
URL:https://wellwoodcrabs.com/event/last-day-of-the-river-shack/
CATEGORIES:special event
ATTACH;FMTTYPE=image/png:https://wellwoodcrabs.com/wp-content/uploads/2021/09/River-Shack-Closing-e1631041377184.png
END:VEVENT
BEGIN:VEVENT
DTSTART;TZID=America/New_York:20210517T110000
DTEND;TZID=America/New_York:20210517T210000
DTSTAMP:20260422T024603
CREATED:20210517T193505Z
LAST-MODIFIED:20210907T185821Z
UID:3750-1621249200-1621285200@wellwoodcrabs.com
SUMMARY:River Shack Specials
DESCRIPTION:$5 Medium Cheese Pizza (Dine-in Only) \n$6 Mojitos \n$7 Orange Crushes
URL:https://wellwoodcrabs.com/event/river-shack-specials/
CATEGORIES:weekly special
ATTACH;FMTTYPE=image/jpeg:https://wellwoodcrabs.com/wp-content/uploads/2021/05/5-med-cheese-pizza-orange-crush-mojitos.jpg
END:VEVENT
BEGIN:VEVENT
DTSTART;TZID=America/New_York:20210912T173000
DTEND;TZID=America/New_York:20210912T180000
DTSTAMP:20260422T024603
CREATED:20210830T173922Z
LAST-MODIFIED:20210910T152135Z
UID:4239-1631467800-1631469600@wellwoodcrabs.com
SUMMARY:RS Dub Glen
DESCRIPTION:
URL:https://wellwoodcrabs.com/event/rs-dub-glen/
END:VEVENT
BEGIN:VEVENT
DTSTART;TZID=America/New_York:20210911T180000
DTEND;TZID=America/New_York:20210911T210000
DTSTAMP:20260422T024603
CREATED:20210412T195835Z
LAST-MODIFIED:20210830T173922Z
UID:3554-1631383200-1631394000@wellwoodcrabs.com
SUMMARY:WW Exit 93
DESCRIPTION:TRIO COO\nFULL F00
URL:https://wellwoodcrabs.com/event/ww-exit-93-6/
CATEGORIES:Music
END:VEVENT
BEGIN:VEVENT
DTSTART;TZID=America/New_York:20210911T180000
DTEND;TZID=America/New_York:20210911T210000
DTSTAMP:20260422T024603
CREATED:20210412T195835Z
LAST-MODIFIED:20210830T173922Z
UID:3555-1631383200-1631394000@wellwoodcrabs.com
SUMMARY:RS Pete & Chris
DESCRIPTION:
URL:https://wellwoodcrabs.com/event/rs-pete-chris-6/
CATEGORIES:Music
END:VEVENT
BEGIN:VEVENT
DTSTART;TZID=America/New_York:20210910T183000
DTEND;TZID=America/New_York:20210910T223000
DTSTAMP:20260422T024603
CREATED:20210910T132550Z
LAST-MODIFIED:20210910T132550Z
UID:4460-1631298600-1631313000@wellwoodcrabs.com
SUMMARY:WW- Syde 2
DESCRIPTION:
URL:https://wellwoodcrabs.com/event/ww-syde-2/
CATEGORIES:Music
END:VEVENT
END:VCALENDAR