BEGIN:VCALENDAR
VERSION:2.0
PRODID:-//The River Shack - ECPv6.15.20//NONSGML v1.0//EN
CALSCALE:GREGORIAN
METHOD:PUBLISH
X-WR-CALNAME:The River Shack
X-ORIGINAL-URL:https://wellwoodcrabs.com
X-WR-CALDESC:Events for The River Shack
REFRESH-INTERVAL;VALUE=DURATION:PT1H
X-Robots-Tag:noindex
X-PUBLISHED-TTL:PT1H
BEGIN:VTIMEZONE
TZID:America/New_York
BEGIN:DAYLIGHT
TZOFFSETFROM:-0500
TZOFFSETTO:-0400
TZNAME:EDT
DTSTART:20210314T070000
END:DAYLIGHT
BEGIN:STANDARD
TZOFFSETFROM:-0400
TZOFFSETTO:-0500
TZNAME:EST
DTSTART:20211107T060000
END:STANDARD
BEGIN:DAYLIGHT
TZOFFSETFROM:-0500
TZOFFSETTO:-0400
TZNAME:EDT
DTSTART:20220313T070000
END:DAYLIGHT
BEGIN:STANDARD
TZOFFSETFROM:-0400
TZOFFSETTO:-0500
TZNAME:EST
DTSTART:20221106T060000
END:STANDARD
BEGIN:DAYLIGHT
TZOFFSETFROM:-0500
TZOFFSETTO:-0400
TZNAME:EDT
DTSTART:20230312T070000
END:DAYLIGHT
BEGIN:STANDARD
TZOFFSETFROM:-0400
TZOFFSETTO:-0500
TZNAME:EST
DTSTART:20231105T060000
END:STANDARD
END:VTIMEZONE
BEGIN:VEVENT
DTSTART;TZID=America/New_York:20220610T183000
DTEND;TZID=America/New_York:20220610T223000
DTSTAMP:20260421T231328
CREATED:20220506T145442Z
LAST-MODIFIED:20220513T152212Z
UID:4616-1654885800-1654900200@wellwoodcrabs.com
SUMMARY:WW Bleech
DESCRIPTION:A000
URL:https://wellwoodcrabs.com/event/ww-bleech-9/
LOCATION:Wellwood
END:VEVENT
BEGIN:VEVENT
DTSTART;TZID=America/New_York:20220610T183000
DTEND;TZID=America/New_York:20220610T213000
DTSTAMP:20260421T231328
CREATED:20220506T145442Z
LAST-MODIFIED:20220513T152212Z
UID:4617-1654885800-1654896600@wellwoodcrabs.com
SUMMARY:RS Pete & Chris
DESCRIPTION:C00
URL:https://wellwoodcrabs.com/event/rs-pete-chris-8/
LOCATION:River Shack\, 523 Water Street\, Charlestown\, MD\, 21914\, United States
END:VEVENT
BEGIN:VEVENT
DTSTART;TZID=America/New_York:20220609T180000
DTEND;TZID=America/New_York:20220609T210000
DTSTAMP:20260421T231328
CREATED:20220506T145442Z
LAST-MODIFIED:20220513T152212Z
UID:4615-1654797600-1654808400@wellwoodcrabs.com
SUMMARY:WW Conley & Watson
DESCRIPTION:CE0
URL:https://wellwoodcrabs.com/event/ww-conley-watson-12/
LOCATION:Wellwood
END:VEVENT
BEGIN:VEVENT
DTSTART;TZID=America/New_York:20220608T180000
DTEND;TZID=America/New_York:20220608T210000
DTSTAMP:20260421T231328
CREATED:20220506T145442Z
LAST-MODIFIED:20220513T152212Z
UID:4614-1654711200-1654722000@wellwoodcrabs.com
SUMMARY:WW Open Mic with Box Turtle Bob
DESCRIPTION:AE0
URL:https://wellwoodcrabs.com/event/ww-open-mic-with-box-turtle-bob-2/
LOCATION:Wellwood
END:VEVENT
BEGIN:VEVENT
DTSTART;TZID=America/New_York:20220607T180000
DTEND;TZID=America/New_York:20220607T210000
DTSTAMP:20260421T231328
CREATED:20220506T145442Z
LAST-MODIFIED:20220513T152211Z
UID:4613-1654624800-1654635600@wellwoodcrabs.com
SUMMARY:WW John Pollard
DESCRIPTION:C00
URL:https://wellwoodcrabs.com/event/ww-john-pollard/
LOCATION:Wellwood
END:VEVENT
BEGIN:VEVENT
DTSTART;TZID=America/New_York:20220605T180000
DTEND;TZID=America/New_York:20220605T210000
DTSTAMP:20260421T231328
CREATED:20220506T145442Z
LAST-MODIFIED:20220513T152211Z
UID:4612-1654452000-1654462800@wellwoodcrabs.com
SUMMARY:WW Crossroads
DESCRIPTION:F00
URL:https://wellwoodcrabs.com/event/ww-crossroads-2/
LOCATION:Wellwood
END:VEVENT
BEGIN:VEVENT
DTSTART;TZID=America/New_York:20220605T170000
DTEND;TZID=America/New_York:20220605T210000
DTSTAMP:20260421T231328
CREATED:20220506T145442Z
LAST-MODIFIED:20220513T152211Z
UID:4611-1654448400-1654462800@wellwoodcrabs.com
SUMMARY:RS Mark & Da Sharks
DESCRIPTION:G00
URL:https://wellwoodcrabs.com/event/rs-mark-da-sharks/
LOCATION:River Shack\, 523 Water Street\, Charlestown\, MD\, 21914\, United States
END:VEVENT
BEGIN:VEVENT
DTSTART;TZID=America/New_York:20220604T190000
DTEND;TZID=America/New_York:20220604T230000
DTSTAMP:20260421T231328
CREATED:20220506T145442Z
LAST-MODIFIED:20220602T213621Z
UID:4610-1654369200-1654383600@wellwoodcrabs.com
SUMMARY:WW Hepner's Rebellion
DESCRIPTION:
URL:https://wellwoodcrabs.com/event/ww-breeze-band-5/
LOCATION:Wellwood
END:VEVENT
BEGIN:VEVENT
DTSTART;TZID=America/New_York:20220604T183000
DTEND;TZID=America/New_York:20220604T213000
DTSTAMP:20260421T231328
CREATED:20220506T145441Z
LAST-MODIFIED:20220513T152211Z
UID:4609-1654367400-1654378200@wellwoodcrabs.com
SUMMARY:RS How's My Hat
DESCRIPTION:E00
URL:https://wellwoodcrabs.com/event/rs-hows-my-hat-4/
LOCATION:River Shack\, 523 Water Street\, Charlestown\, MD\, 21914\, United States
END:VEVENT
BEGIN:VEVENT
DTSTART;TZID=America/New_York:20220603T183000
DTEND;TZID=America/New_York:20220603T223000
DTSTAMP:20260421T231328
CREATED:20220506T145441Z
LAST-MODIFIED:20220513T152211Z
UID:4607-1654281000-1654295400@wellwoodcrabs.com
SUMMARY:WW Stage Left
DESCRIPTION:F00
URL:https://wellwoodcrabs.com/event/ww-stage-left-2/
LOCATION:Wellwood
END:VEVENT
BEGIN:VEVENT
DTSTART;TZID=America/New_York:20220603T183000
DTEND;TZID=America/New_York:20220603T213000
DTSTAMP:20260421T231328
CREATED:20220506T145441Z
LAST-MODIFIED:20220513T152211Z
UID:4608-1654281000-1654291800@wellwoodcrabs.com
SUMMARY:RS AJ Love
DESCRIPTION:BBE
URL:https://wellwoodcrabs.com/event/rs-aj-love-9/
LOCATION:River Shack\, 523 Water Street\, Charlestown\, MD\, 21914\, United States
END:VEVENT
BEGIN:VEVENT
DTSTART;TZID=America/New_York:20220602T180000
DTEND;TZID=America/New_York:20220602T210000
DTSTAMP:20260421T231328
CREATED:20220506T145441Z
LAST-MODIFIED:20220513T152211Z
UID:4606-1654192800-1654203600@wellwoodcrabs.com
SUMMARY:WW Conley & Watson
DESCRIPTION:CE0
URL:https://wellwoodcrabs.com/event/ww-conley-watson-11/
LOCATION:Wellwood
END:VEVENT
BEGIN:VEVENT
DTSTART;TZID=America/New_York:20220601T180000
DTEND;TZID=America/New_York:20220601T210000
DTSTAMP:20260421T231328
CREATED:20220506T145441Z
LAST-MODIFIED:20220513T152211Z
UID:4605-1654106400-1654117200@wellwoodcrabs.com
SUMMARY:WW Open Mic with Box Turtle Bob
DESCRIPTION:AE0
URL:https://wellwoodcrabs.com/event/ww-open-mic-with-box-turtle-bob/
LOCATION:Wellwood
END:VEVENT
BEGIN:VEVENT
DTSTART;TZID=America/New_York:20220531T180000
DTEND;TZID=America/New_York:20220531T210000
DTSTAMP:20260421T231328
CREATED:20220506T145441Z
LAST-MODIFIED:20220513T152211Z
UID:4604-1654020000-1654030800@wellwoodcrabs.com
SUMMARY:WW Dub Glen
DESCRIPTION:BB0
URL:https://wellwoodcrabs.com/event/ww-dub-glen/
LOCATION:Wellwood
END:VEVENT
BEGIN:VEVENT
DTSTART;TZID=America/New_York:20220530T160000
DTEND;TZID=America/New_York:20220530T190000
DTSTAMP:20260421T231328
CREATED:20220506T145441Z
LAST-MODIFIED:20220513T152211Z
UID:4603-1653926400-1653937200@wellwoodcrabs.com
SUMMARY:RS Box Turtle Bob Duo
DESCRIPTION:BE0
URL:https://wellwoodcrabs.com/event/rs-box-turtle-bob-duo/
LOCATION:River Shack\, 523 Water Street\, Charlestown\, MD\, 21914\, United States
END:VEVENT
BEGIN:VEVENT
DTSTART;TZID=America/New_York:20220529T180000
DTEND;TZID=America/New_York:20220529T210000
DTSTAMP:20260421T231328
CREATED:20220506T145441Z
LAST-MODIFIED:20220513T152211Z
UID:4601-1653847200-1653858000@wellwoodcrabs.com
SUMMARY:RS Dub Glen
DESCRIPTION:BB0
URL:https://wellwoodcrabs.com/event/rs-dub-glen-2/
LOCATION:River Shack\, 523 Water Street\, Charlestown\, MD\, 21914\, United States
END:VEVENT
BEGIN:VEVENT
DTSTART;TZID=America/New_York:20220529T180000
DTEND;TZID=America/New_York:20220529T210000
DTSTAMP:20260421T231328
CREATED:20220506T145441Z
LAST-MODIFIED:20220513T152211Z
UID:4602-1653847200-1653858000@wellwoodcrabs.com
SUMMARY:WW Exit-93
DESCRIPTION:F00
URL:https://wellwoodcrabs.com/event/ww-exit-93-8/
LOCATION:Wellwood
END:VEVENT
BEGIN:VEVENT
DTSTART;TZID=America/New_York:20220528T190000
DTEND;TZID=America/New_York:20220528T230000
DTSTAMP:20260421T231328
CREATED:20220506T145441Z
LAST-MODIFIED:20220513T152211Z
UID:4599-1653764400-1653778800@wellwoodcrabs.com
SUMMARY:WW Stage Left
DESCRIPTION:F00
URL:https://wellwoodcrabs.com/event/ww-stage-left/
LOCATION:Wellwood
END:VEVENT
BEGIN:VEVENT
DTSTART;TZID=America/New_York:20220528T183000
DTEND;TZID=America/New_York:20220528T213000
DTSTAMP:20260421T231328
CREATED:20220506T145441Z
LAST-MODIFIED:20220513T152211Z
UID:4600-1653762600-1653773400@wellwoodcrabs.com
SUMMARY:RS Conley & Watson
DESCRIPTION:CE0
URL:https://wellwoodcrabs.com/event/rs-conley-watson-5/
LOCATION:River Shack\, 523 Water Street\, Charlestown\, MD\, 21914\, United States
END:VEVENT
BEGIN:VEVENT
DTSTART;TZID=America/New_York:20220527T183000
DTEND;TZID=America/New_York:20220527T223000
DTSTAMP:20260421T231328
CREATED:20220506T145441Z
LAST-MODIFIED:20220513T152211Z
UID:4597-1653676200-1653690600@wellwoodcrabs.com
SUMMARY:WW Bleech
DESCRIPTION:A000
URL:https://wellwoodcrabs.com/event/ww-bleech-8/
LOCATION:Wellwood
END:VEVENT
BEGIN:VEVENT
DTSTART;TZID=America/New_York:20220527T183000
DTEND;TZID=America/New_York:20220527T213000
DTSTAMP:20260421T231328
CREATED:20220506T145441Z
LAST-MODIFIED:20220513T152211Z
UID:4598-1653676200-1653687000@wellwoodcrabs.com
SUMMARY:RS Pete & Chris
DESCRIPTION:C00
URL:https://wellwoodcrabs.com/event/rs-pete-chris-7/
LOCATION:River Shack\, 523 Water Street\, Charlestown\, MD\, 21914\, United States
END:VEVENT
BEGIN:VEVENT
DTSTART;TZID=America/New_York:20220526T180000
DTEND;TZID=America/New_York:20220526T210000
DTSTAMP:20260421T231328
CREATED:20220506T145441Z
LAST-MODIFIED:20220513T152211Z
UID:4596-1653588000-1653598800@wellwoodcrabs.com
SUMMARY:WW Red Toad Connection
DESCRIPTION:C00
URL:https://wellwoodcrabs.com/event/ww-red-toad-connection/
LOCATION:Wellwood
END:VEVENT
BEGIN:VEVENT
DTSTART;TZID=America/New_York:20220521T190000
DTEND;TZID=America/New_York:20220521T230000
DTSTAMP:20260421T231328
CREATED:20220506T145441Z
LAST-MODIFIED:20220513T152211Z
UID:4595-1653159600-1653174000@wellwoodcrabs.com
SUMMARY:WW Acoustically Sound
DESCRIPTION:D00
URL:https://wellwoodcrabs.com/event/ww-acoustically-sound-6/
LOCATION:Wellwood
END:VEVENT
BEGIN:VEVENT
DTSTART;TZID=America/New_York:20220520T183000
DTEND;TZID=America/New_York:20220520T213000
DTSTAMP:20260421T231328
CREATED:20220506T145441Z
LAST-MODIFIED:20220513T152211Z
UID:4593-1653071400-1653082200@wellwoodcrabs.com
SUMMARY:RS Red Toad Connection
DESCRIPTION:C00
URL:https://wellwoodcrabs.com/event/rs-red-toad-connection/
LOCATION:River Shack\, 523 Water Street\, Charlestown\, MD\, 21914\, United States
END:VEVENT
BEGIN:VEVENT
DTSTART;TZID=America/New_York:20220514T190000
DTEND;TZID=America/New_York:20220514T230000
DTSTAMP:20260421T231328
CREATED:20220506T145440Z
LAST-MODIFIED:20220513T152210Z
UID:4591-1652554800-1652569200@wellwoodcrabs.com
SUMMARY:WW Big Toe
DESCRIPTION:G00
URL:https://wellwoodcrabs.com/event/ww-big-toe-4/
LOCATION:Wellwood
END:VEVENT
BEGIN:VEVENT
DTSTART;TZID=America/New_York:20220508T110000
DTEND;TZID=America/New_York:20220508T160000
DTSTAMP:20260421T231328
CREATED:20220420T204553Z
LAST-MODIFIED:20220420T204623Z
UID:4579-1652007600-1652025600@wellwoodcrabs.com
SUMMARY:Mother's Day Buffet
DESCRIPTION:
URL:https://wellwoodcrabs.com/event/mothers-day-buffet/
CATEGORIES:special event
ATTACH;FMTTYPE=image/png:https://wellwoodcrabs.com/wp-content/uploads/2022/04/Mothers-Day-2022.png
END:VEVENT
BEGIN:VEVENT
DTSTART;TZID=America/New_York:20220417T110000
DTEND;TZID=America/New_York:20220417T160000
DTSTAMP:20260421T231328
CREATED:20220315T200215Z
LAST-MODIFIED:20220315T200542Z
UID:4562-1650193200-1650211200@wellwoodcrabs.com
SUMMARY:Easter Buffet
DESCRIPTION:410-287-6666\nMAKE YOUR EASTER RESERVATIONS\n \nSEE FULL MENU
URL:https://wellwoodcrabs.com/event/4562/
CATEGORIES:special event
ATTACH;FMTTYPE=image/jpeg:https://wellwoodcrabs.com/wp-content/uploads/2022/03/Easter-2022-pop-up.jpg
END:VEVENT
BEGIN:VEVENT
DTSTART;VALUE=DATE:20220226
DTEND;VALUE=DATE:20220227
DTSTAMP:20260421T231328
CREATED:20211213T182517Z
LAST-MODIFIED:20211213T182525Z
UID:4524-1645833600-1645919999@wellwoodcrabs.com
SUMMARY:Save the Date - Annual Ice Splash
DESCRIPTION:Wellwood is once again hosting the Annual Ice Splash benefitting Special Olympics. Stop back soon for details.
URL:https://wellwoodcrabs.com/event/save-the-date-annual-ice-splash/
CATEGORIES:special event
END:VEVENT
BEGIN:VEVENT
DTSTART;TZID=America/New_York:20220214T080000
DTEND;TZID=America/New_York:20220214T213000
DTSTAMP:20260421T231328
CREATED:20211213T182057Z
LAST-MODIFIED:20220128T151848Z
UID:4520-1644825600-1644874200@wellwoodcrabs.com
SUMMARY:Reserve Your Spot - Valentine's Candlelit Dinner
DESCRIPTION:CALL FOR RESERVATIONS: 410-287-6666
URL:https://wellwoodcrabs.com/event/save-the-date-valentines-candle-lit-dinner/
CATEGORIES:special event
ATTACH;FMTTYPE=image/png:https://wellwoodcrabs.com/wp-content/uploads/2021/12/Pink-Valentines-Day-Sale-Poster.png
END:VEVENT
BEGIN:VEVENT
DTSTART;VALUE=DATE:20220212
DTEND;VALUE=DATE:20220213
DTSTAMP:20260421T231328
CREATED:20211213T182332Z
LAST-MODIFIED:20220104T155230Z
UID:4522-1644624000-1644710399@wellwoodcrabs.com
SUMMARY:Save the Date - Comedy Night
DESCRIPTION:BUY TICKETS \nDinner and Adult Comedy Show hosted by Patrick O’Donnell. Featured performer Ed McGonigal can be heard on Philly radio WIP. Headlining Chris Coccia. Chris Coccia’s act is a perfect combination of hilarious material and the ability to present it “in the moment”. Flowing seamlessly between material and improvised interaction with the crowd\, Chris is able to open the audience up as he pulls them into a shared recognition of our own human-ness.\nDoors open at 6p\nMeal served at 6:15pm\nShow starts at 7:15pm\nWe have coordinated this event with buffer space between tables to help maintain social distancing. Please let us know if you have purchased multiple tables so we can seat you nearby.\nMenu:\nAppetizer: Fried Ravioli with spicy marinara\nSalad: Mixed greens with chick peas\, tomato\, shaved red onion\, English cucumber\, house-made croutons\, apple cider vinaigrette\nEntrée: Apple-garlic glazed chicken with baked potato and seasonal vegetable medley\nDessert: Cheesecake with fresh berries & whipped cream\nGuests should purchase their tickets on line in advance (by table
URL:https://wellwoodcrabs.com/event/save-the-date-comedy-night/
CATEGORIES:special event,ticketed event
ATTACH;FMTTYPE=image/jpeg:https://wellwoodcrabs.com/wp-content/uploads/2021/12/271276318_5403929166290643_6382409792103511638_n.jpg
END:VEVENT
END:VCALENDAR