BEGIN:VCALENDAR
VERSION:2.0
PRODID:-//The River Shack - ECPv6.15.20//NONSGML v1.0//EN
CALSCALE:GREGORIAN
METHOD:PUBLISH
X-WR-CALNAME:The River Shack
X-ORIGINAL-URL:https://wellwoodcrabs.com
X-WR-CALDESC:Events for The River Shack
REFRESH-INTERVAL;VALUE=DURATION:PT1H
X-Robots-Tag:noindex
X-PUBLISHED-TTL:PT1H
BEGIN:VTIMEZONE
TZID:America/New_York
BEGIN:DAYLIGHT
TZOFFSETFROM:-0500
TZOFFSETTO:-0400
TZNAME:EDT
DTSTART:20210314T070000
END:DAYLIGHT
BEGIN:STANDARD
TZOFFSETFROM:-0400
TZOFFSETTO:-0500
TZNAME:EST
DTSTART:20211107T060000
END:STANDARD
BEGIN:DAYLIGHT
TZOFFSETFROM:-0500
TZOFFSETTO:-0400
TZNAME:EDT
DTSTART:20220313T070000
END:DAYLIGHT
BEGIN:STANDARD
TZOFFSETFROM:-0400
TZOFFSETTO:-0500
TZNAME:EST
DTSTART:20221106T060000
END:STANDARD
BEGIN:DAYLIGHT
TZOFFSETFROM:-0500
TZOFFSETTO:-0400
TZNAME:EDT
DTSTART:20230312T070000
END:DAYLIGHT
BEGIN:STANDARD
TZOFFSETFROM:-0400
TZOFFSETTO:-0500
TZNAME:EST
DTSTART:20231105T060000
END:STANDARD
END:VTIMEZONE
BEGIN:VEVENT
DTSTART;TZID=America/New_York:20220708T183000
DTEND;TZID=America/New_York:20220708T223000
DTSTAMP:20260421T182102
CREATED:20220506T145445Z
LAST-MODIFIED:20220513T152213Z
UID:4653-1657305000-1657319400@wellwoodcrabs.com
SUMMARY:WW Bleech
DESCRIPTION:A000
URL:https://wellwoodcrabs.com/event/ww-bleech-11/
LOCATION:Wellwood
END:VEVENT
BEGIN:VEVENT
DTSTART;TZID=America/New_York:20220708T180000
DTEND;TZID=America/New_York:20220708T210000
DTSTAMP:20260421T182102
CREATED:20220506T145445Z
LAST-MODIFIED:20220513T152213Z
UID:4652-1657303200-1657314000@wellwoodcrabs.com
SUMMARY:RS AJ Love
DESCRIPTION:BBE
URL:https://wellwoodcrabs.com/event/rs-aj-love-11/
LOCATION:River Shack\, 523 Water Street\, Charlestown\, MD\, 21914\, United States
END:VEVENT
BEGIN:VEVENT
DTSTART;TZID=America/New_York:20220707T180000
DTEND;TZID=America/New_York:20220707T210000
DTSTAMP:20260421T182102
CREATED:20220506T145445Z
LAST-MODIFIED:20220513T152213Z
UID:4651-1657216800-1657227600@wellwoodcrabs.com
SUMMARY:WW Rick & Connie
DESCRIPTION:D00
URL:https://wellwoodcrabs.com/event/ww-rick-connie/
LOCATION:Wellwood
END:VEVENT
BEGIN:VEVENT
DTSTART;TZID=America/New_York:20220706T180000
DTEND;TZID=America/New_York:20220706T210000
DTSTAMP:20260421T182102
CREATED:20220506T145444Z
LAST-MODIFIED:20220531T155806Z
UID:4650-1657130400-1657141200@wellwoodcrabs.com
SUMMARY:WW Take 2
DESCRIPTION:AE0
URL:https://wellwoodcrabs.com/event/ww-open-mic-with-box-turtle-bob-6/
LOCATION:Wellwood
END:VEVENT
BEGIN:VEVENT
DTSTART;TZID=America/New_York:20220705T180000
DTEND;TZID=America/New_York:20220705T210000
DTSTAMP:20260421T182102
CREATED:20220506T145444Z
LAST-MODIFIED:20220513T152213Z
UID:4649-1657044000-1657054800@wellwoodcrabs.com
SUMMARY:WW Dub Glen
DESCRIPTION:BB0
URL:https://wellwoodcrabs.com/event/ww-dub-glen-4/
LOCATION:Wellwood
END:VEVENT
BEGIN:VEVENT
DTSTART;TZID=America/New_York:20220703T180000
DTEND;TZID=America/New_York:20220703T210000
DTSTAMP:20260421T182102
CREATED:20220506T145444Z
LAST-MODIFIED:20220701T173210Z
UID:4648-1656871200-1656882000@wellwoodcrabs.com
SUMMARY:WW The Jimmys
DESCRIPTION:GE0
URL:https://wellwoodcrabs.com/event/ww-breeze-band-6/
LOCATION:Wellwood
CATEGORIES:Music
END:VEVENT
BEGIN:VEVENT
DTSTART;TZID=America/New_York:20220703T180000
DTEND;TZID=America/New_York:20220703T210000
DTSTAMP:20260421T182102
CREATED:20220506T145444Z
LAST-MODIFIED:20220513T152213Z
UID:4647-1656871200-1656882000@wellwoodcrabs.com
SUMMARY:RS New Direction
DESCRIPTION:G00
URL:https://wellwoodcrabs.com/event/rs-new-direction-2/
LOCATION:River Shack\, 523 Water Street\, Charlestown\, MD\, 21914\, United States
END:VEVENT
BEGIN:VEVENT
DTSTART;TZID=America/New_York:20220702T190000
DTEND;TZID=America/New_York:20220702T230000
DTSTAMP:20260421T182102
CREATED:20220506T145444Z
LAST-MODIFIED:20220513T152213Z
UID:4646-1656788400-1656802800@wellwoodcrabs.com
SUMMARY:WW TBD
DESCRIPTION:
URL:https://wellwoodcrabs.com/event/ww-tbd/
LOCATION:Wellwood
END:VEVENT
BEGIN:VEVENT
DTSTART;TZID=America/New_York:20220702T183000
DTEND;TZID=America/New_York:20220702T213000
DTSTAMP:20260421T182102
CREATED:20220506T145444Z
LAST-MODIFIED:20220513T152213Z
UID:4645-1656786600-1656797400@wellwoodcrabs.com
SUMMARY:RS Dub Glen
DESCRIPTION:BB0
URL:https://wellwoodcrabs.com/event/rs-dub-glen-5/
LOCATION:River Shack\, 523 Water Street\, Charlestown\, MD\, 21914\, United States
END:VEVENT
BEGIN:VEVENT
DTSTART;TZID=America/New_York:20220701T183000
DTEND;TZID=America/New_York:20220701T223000
DTSTAMP:20260421T182102
CREATED:20220506T145444Z
LAST-MODIFIED:20220513T152213Z
UID:4644-1656700200-1656714600@wellwoodcrabs.com
SUMMARY:WW Exit-93
DESCRIPTION:F00
URL:https://wellwoodcrabs.com/event/ww-exit-93-10/
LOCATION:Wellwood
END:VEVENT
BEGIN:VEVENT
DTSTART;TZID=America/New_York:20220701T183000
DTEND;TZID=America/New_York:20220701T213000
DTSTAMP:20260421T182102
CREATED:20220506T145444Z
LAST-MODIFIED:20220513T152213Z
UID:4643-1656700200-1656711000@wellwoodcrabs.com
SUMMARY:RS Conley & Watson
DESCRIPTION:CE0
URL:https://wellwoodcrabs.com/event/rs-conley-watson-7/
LOCATION:River Shack\, 523 Water Street\, Charlestown\, MD\, 21914\, United States
END:VEVENT
BEGIN:VEVENT
DTSTART;TZID=America/New_York:20220630T180000
DTEND;TZID=America/New_York:20220630T210000
DTSTAMP:20260421T182102
CREATED:20220506T145444Z
LAST-MODIFIED:20220513T152213Z
UID:4642-1656612000-1656622800@wellwoodcrabs.com
SUMMARY:WW Katelyn Christine
DESCRIPTION:BGE
URL:https://wellwoodcrabs.com/event/ww-katelyn-christine/
LOCATION:Wellwood
END:VEVENT
BEGIN:VEVENT
DTSTART;TZID=America/New_York:20220629T180000
DTEND;TZID=America/New_York:20220629T210000
DTSTAMP:20260421T182102
CREATED:20220506T145444Z
LAST-MODIFIED:20220513T152213Z
UID:4641-1656525600-1656536400@wellwoodcrabs.com
SUMMARY:WW Open Mic with Box Turtle Bob
DESCRIPTION:AE0
URL:https://wellwoodcrabs.com/event/ww-open-mic-with-box-turtle-bob-5/
LOCATION:Wellwood
END:VEVENT
BEGIN:VEVENT
DTSTART;TZID=America/New_York:20220628T180000
DTEND;TZID=America/New_York:20220628T210000
DTSTAMP:20260421T182102
CREATED:20220506T145444Z
LAST-MODIFIED:20220513T152213Z
UID:4640-1656439200-1656450000@wellwoodcrabs.com
SUMMARY:WW Bob Stretch
DESCRIPTION:BE0
URL:https://wellwoodcrabs.com/event/ww-bob-stretch-4/
LOCATION:Wellwood
END:VEVENT
BEGIN:VEVENT
DTSTART;TZID=America/New_York:20220626T180000
DTEND;TZID=America/New_York:20220626T210000
DTSTAMP:20260421T182102
CREATED:20220506T145444Z
LAST-MODIFIED:20220513T152213Z
UID:4639-1656266400-1656277200@wellwoodcrabs.com
SUMMARY:RS AJ Love
DESCRIPTION:BBE
URL:https://wellwoodcrabs.com/event/rs-aj-love-10/
LOCATION:River Shack\, 523 Water Street\, Charlestown\, MD\, 21914\, United States
END:VEVENT
BEGIN:VEVENT
DTSTART;TZID=America/New_York:20220626T180000
DTEND;TZID=America/New_York:20220626T210000
DTSTAMP:20260421T182102
CREATED:20220506T145444Z
LAST-MODIFIED:20220513T152213Z
UID:4638-1656266400-1656277200@wellwoodcrabs.com
SUMMARY:WW Conley & Watson
DESCRIPTION:CE0
URL:https://wellwoodcrabs.com/event/ww-conley-watson-14/
LOCATION:Wellwood
END:VEVENT
BEGIN:VEVENT
DTSTART;TZID=America/New_York:20220625T190000
DTEND;TZID=America/New_York:20220625T230000
DTSTAMP:20260421T182102
CREATED:20220506T145443Z
LAST-MODIFIED:20220513T152213Z
UID:4637-1656183600-1656198000@wellwoodcrabs.com
SUMMARY:WW Big Toe
DESCRIPTION:G00
URL:https://wellwoodcrabs.com/event/ww-big-toe-5/
LOCATION:Wellwood
END:VEVENT
BEGIN:VEVENT
DTSTART;TZID=America/New_York:20220625T183000
DTEND;TZID=America/New_York:20220625T213000
DTSTAMP:20260421T182102
CREATED:20220506T145443Z
LAST-MODIFIED:20220513T152213Z
UID:4636-1656181800-1656192600@wellwoodcrabs.com
SUMMARY:RS Rick & Connie
DESCRIPTION:D00
URL:https://wellwoodcrabs.com/event/rs-rick-connie/
LOCATION:River Shack\, 523 Water Street\, Charlestown\, MD\, 21914\, United States
END:VEVENT
BEGIN:VEVENT
DTSTART;TZID=America/New_York:20220624T183000
DTEND;TZID=America/New_York:20220624T223000
DTSTAMP:20260421T182102
CREATED:20220506T145443Z
LAST-MODIFIED:20220513T152213Z
UID:4635-1656095400-1656109800@wellwoodcrabs.com
SUMMARY:WW Bleech
DESCRIPTION:A000
URL:https://wellwoodcrabs.com/event/ww-bleech-10/
LOCATION:Wellwood
END:VEVENT
BEGIN:VEVENT
DTSTART;TZID=America/New_York:20220624T183000
DTEND;TZID=America/New_York:20220624T213000
DTSTAMP:20260421T182102
CREATED:20220506T145443Z
LAST-MODIFIED:20220621T210410Z
UID:4634-1656095400-1656106200@wellwoodcrabs.com
SUMMARY:RS New Direction
DESCRIPTION:C00
URL:https://wellwoodcrabs.com/event/rs-pete-chris-9/
LOCATION:River Shack\, 523 Water Street\, Charlestown\, MD\, 21914\, United States
END:VEVENT
BEGIN:VEVENT
DTSTART;TZID=America/New_York:20220623T180000
DTEND;TZID=America/New_York:20220623T210000
DTSTAMP:20260421T182102
CREATED:20220506T145443Z
LAST-MODIFIED:20220513T152213Z
UID:4633-1656007200-1656018000@wellwoodcrabs.com
SUMMARY:WW Conley & Watson
DESCRIPTION:CE0
URL:https://wellwoodcrabs.com/event/ww-conley-watson-13/
LOCATION:Wellwood
END:VEVENT
BEGIN:VEVENT
DTSTART;TZID=America/New_York:20220622T180000
DTEND;TZID=America/New_York:20220622T210000
DTSTAMP:20260421T182102
CREATED:20220506T145443Z
LAST-MODIFIED:20220513T152212Z
UID:4632-1655920800-1655931600@wellwoodcrabs.com
SUMMARY:WW Open Mic with Box Turtle Bob
DESCRIPTION:AE0
URL:https://wellwoodcrabs.com/event/ww-open-mic-with-box-turtle-bob-4/
LOCATION:Wellwood
END:VEVENT
BEGIN:VEVENT
DTSTART;TZID=America/New_York:20220621T180000
DTEND;TZID=America/New_York:20220621T210000
DTSTAMP:20260421T182102
CREATED:20220506T145443Z
LAST-MODIFIED:20220513T152212Z
UID:4631-1655834400-1655845200@wellwoodcrabs.com
SUMMARY:WW Dub Glen
DESCRIPTION:BB0
URL:https://wellwoodcrabs.com/event/ww-dub-glen-3/
LOCATION:Wellwood
END:VEVENT
BEGIN:VEVENT
DTSTART;TZID=America/New_York:20220619T180000
DTEND;TZID=America/New_York:20220619T210000
DTSTAMP:20260421T182102
CREATED:20220506T145443Z
LAST-MODIFIED:20220513T152212Z
UID:4630-1655661600-1655672400@wellwoodcrabs.com
SUMMARY:WW Outta Toon Band
DESCRIPTION:F00
URL:https://wellwoodcrabs.com/event/ww-outta-toon-band/
LOCATION:Wellwood
END:VEVENT
BEGIN:VEVENT
DTSTART;TZID=America/New_York:20220619T180000
DTEND;TZID=America/New_York:20220619T210000
DTSTAMP:20260421T182102
CREATED:20220506T145443Z
LAST-MODIFIED:20220513T152212Z
UID:4629-1655661600-1655672400@wellwoodcrabs.com
SUMMARY:RS Dub Glen
DESCRIPTION:BB0
URL:https://wellwoodcrabs.com/event/rs-dub-glen-4/
LOCATION:River Shack\, 523 Water Street\, Charlestown\, MD\, 21914\, United States
END:VEVENT
BEGIN:VEVENT
DTSTART;TZID=America/New_York:20220618T190000
DTEND;TZID=America/New_York:20220618T230000
DTSTAMP:20260421T182102
CREATED:20220506T145443Z
LAST-MODIFIED:20220513T152212Z
UID:4627-1655578800-1655593200@wellwoodcrabs.com
SUMMARY:WW Exit-93
DESCRIPTION:F00
URL:https://wellwoodcrabs.com/event/ww-exit-93-9/
LOCATION:Wellwood
END:VEVENT
BEGIN:VEVENT
DTSTART;TZID=America/New_York:20220618T183000
DTEND;TZID=America/New_York:20220618T213000
DTSTAMP:20260421T182102
CREATED:20220506T145443Z
LAST-MODIFIED:20220513T152212Z
UID:4628-1655577000-1655587800@wellwoodcrabs.com
SUMMARY:RS New Direction
DESCRIPTION:G00
URL:https://wellwoodcrabs.com/event/rs-new-direction/
LOCATION:River Shack\, 523 Water Street\, Charlestown\, MD\, 21914\, United States
END:VEVENT
BEGIN:VEVENT
DTSTART;TZID=America/New_York:20220617T183000
DTEND;TZID=America/New_York:20220617T223000
DTSTAMP:20260421T182102
CREATED:20220506T145443Z
LAST-MODIFIED:20220513T152212Z
UID:4625-1655490600-1655505000@wellwoodcrabs.com
SUMMARY:WW Jukebox Trio
DESCRIPTION:D00
URL:https://wellwoodcrabs.com/event/ww-jukebox-trio/
LOCATION:Wellwood
END:VEVENT
BEGIN:VEVENT
DTSTART;TZID=America/New_York:20220617T183000
DTEND;TZID=America/New_York:20220617T213000
DTSTAMP:20260421T182102
CREATED:20220506T145443Z
LAST-MODIFIED:20220513T152212Z
UID:4626-1655490600-1655501400@wellwoodcrabs.com
SUMMARY:RS Raising Cain
DESCRIPTION:C00
URL:https://wellwoodcrabs.com/event/rs-raising-cain/
LOCATION:River Shack\, 523 Water Street\, Charlestown\, MD\, 21914\, United States
END:VEVENT
BEGIN:VEVENT
DTSTART;TZID=America/New_York:20220616T180000
DTEND;TZID=America/New_York:20220616T210000
DTSTAMP:20260421T182102
CREATED:20220506T145442Z
LAST-MODIFIED:20220513T152212Z
UID:4624-1655402400-1655413200@wellwoodcrabs.com
SUMMARY:WW Aj Love
DESCRIPTION:AGE
URL:https://wellwoodcrabs.com/event/ww-aj-love-4/
LOCATION:Wellwood
END:VEVENT
END:VCALENDAR