BEGIN:VCALENDAR
VERSION:2.0
PRODID:-//The River Shack - ECPv6.15.20//NONSGML v1.0//EN
CALSCALE:GREGORIAN
METHOD:PUBLISH
X-WR-CALNAME:The River Shack
X-ORIGINAL-URL:https://wellwoodcrabs.com
X-WR-CALDESC:Events for The River Shack
REFRESH-INTERVAL;VALUE=DURATION:PT1H
X-Robots-Tag:noindex
X-PUBLISHED-TTL:PT1H
BEGIN:VTIMEZONE
TZID:America/New_York
BEGIN:DAYLIGHT
TZOFFSETFROM:-0500
TZOFFSETTO:-0400
TZNAME:EDT
DTSTART:20210314T070000
END:DAYLIGHT
BEGIN:STANDARD
TZOFFSETFROM:-0400
TZOFFSETTO:-0500
TZNAME:EST
DTSTART:20211107T060000
END:STANDARD
BEGIN:DAYLIGHT
TZOFFSETFROM:-0500
TZOFFSETTO:-0400
TZNAME:EDT
DTSTART:20220313T070000
END:DAYLIGHT
BEGIN:STANDARD
TZOFFSETFROM:-0400
TZOFFSETTO:-0500
TZNAME:EST
DTSTART:20221106T060000
END:STANDARD
BEGIN:DAYLIGHT
TZOFFSETFROM:-0500
TZOFFSETTO:-0400
TZNAME:EDT
DTSTART:20230312T070000
END:DAYLIGHT
BEGIN:STANDARD
TZOFFSETFROM:-0400
TZOFFSETTO:-0500
TZNAME:EST
DTSTART:20231105T060000
END:STANDARD
END:VTIMEZONE
BEGIN:VEVENT
DTSTART;TZID=America/New_York:20220724T180000
DTEND;TZID=America/New_York:20220724T210000
DTSTAMP:20260421T160020
CREATED:20220506T145446Z
LAST-MODIFIED:20220513T152214Z
UID:4674-1658685600-1658696400@wellwoodcrabs.com
SUMMARY:RS Dub Glen
DESCRIPTION:BB0
URL:https://wellwoodcrabs.com/event/rs-dub-glen-6/
LOCATION:River Shack\, 523 Water Street\, Charlestown\, MD\, 21914\, United States
END:VEVENT
BEGIN:VEVENT
DTSTART;TZID=America/New_York:20220724T180000
DTEND;TZID=America/New_York:20220724T210000
DTSTAMP:20260421T160020
CREATED:20220506T145446Z
LAST-MODIFIED:20220513T152214Z
UID:4675-1658685600-1658696400@wellwoodcrabs.com
SUMMARY:WW Breeze Band
DESCRIPTION:GE0
URL:https://wellwoodcrabs.com/event/ww-breeze-band-8/
LOCATION:Wellwood
END:VEVENT
BEGIN:VEVENT
DTSTART;TZID=America/New_York:20220723T190000
DTEND;TZID=America/New_York:20220723T230000
DTSTAMP:20260421T160020
CREATED:20220506T145446Z
LAST-MODIFIED:20220513T152214Z
UID:4672-1658602800-1658617200@wellwoodcrabs.com
SUMMARY:WW Big Toe
DESCRIPTION:G00
URL:https://wellwoodcrabs.com/event/ww-big-toe-6/
LOCATION:Wellwood
END:VEVENT
BEGIN:VEVENT
DTSTART;TZID=America/New_York:20220723T183000
DTEND;TZID=America/New_York:20220723T213000
DTSTAMP:20260421T160020
CREATED:20220506T145446Z
LAST-MODIFIED:20220513T152214Z
UID:4673-1658601000-1658611800@wellwoodcrabs.com
SUMMARY:RS AJ Love
DESCRIPTION:BBE
URL:https://wellwoodcrabs.com/event/rs-aj-love-13/
LOCATION:River Shack\, 523 Water Street\, Charlestown\, MD\, 21914\, United States
END:VEVENT
BEGIN:VEVENT
DTSTART;TZID=America/New_York:20220722T183000
DTEND;TZID=America/New_York:20220722T223000
DTSTAMP:20260421T160020
CREATED:20220506T145446Z
LAST-MODIFIED:20220513T152214Z
UID:4670-1658514600-1658529000@wellwoodcrabs.com
SUMMARY:WW Outta Toon Band
DESCRIPTION:F00
URL:https://wellwoodcrabs.com/event/ww-outta-toon-band-3/
LOCATION:Wellwood
END:VEVENT
BEGIN:VEVENT
DTSTART;TZID=America/New_York:20220722T183000
DTEND;TZID=America/New_York:20220722T213000
DTSTAMP:20260421T160020
CREATED:20220506T145446Z
LAST-MODIFIED:20220513T152214Z
UID:4671-1658514600-1658525400@wellwoodcrabs.com
SUMMARY:RS Alison Thoms
DESCRIPTION:D00
URL:https://wellwoodcrabs.com/event/rs-alison-thoms/
LOCATION:River Shack\, 523 Water Street\, Charlestown\, MD\, 21914\, United States
END:VEVENT
BEGIN:VEVENT
DTSTART;TZID=America/New_York:20220721T180000
DTEND;TZID=America/New_York:20220721T210000
DTSTAMP:20260421T160020
CREATED:20220506T145446Z
LAST-MODIFIED:20220513T152214Z
UID:4669-1658426400-1658437200@wellwoodcrabs.com
SUMMARY:WW Katelyn Christine
DESCRIPTION:BGE
URL:https://wellwoodcrabs.com/event/ww-katelyn-christine-2/
LOCATION:Wellwood
END:VEVENT
BEGIN:VEVENT
DTSTART;TZID=America/New_York:20220720T180000
DTEND;TZID=America/New_York:20220720T210000
DTSTAMP:20260421T160020
CREATED:20220506T145446Z
LAST-MODIFIED:20220513T152214Z
UID:4668-1658340000-1658350800@wellwoodcrabs.com
SUMMARY:WW Open Mic with Box Turtle Bob
DESCRIPTION:AE0
URL:https://wellwoodcrabs.com/event/ww-open-mic-with-box-turtle-bob-8/
LOCATION:Wellwood
END:VEVENT
BEGIN:VEVENT
DTSTART;TZID=America/New_York:20220719T180000
DTEND;TZID=America/New_York:20220719T210000
DTSTAMP:20260421T160020
CREATED:20220506T145446Z
LAST-MODIFIED:20220513T152214Z
UID:4667-1658253600-1658264400@wellwoodcrabs.com
SUMMARY:WW Dub Glen
DESCRIPTION:BB0
URL:https://wellwoodcrabs.com/event/ww-dub-glen-5/
LOCATION:Wellwood
END:VEVENT
BEGIN:VEVENT
DTSTART;TZID=America/New_York:20220717T180000
DTEND;TZID=America/New_York:20220717T210000
DTSTAMP:20260421T160020
CREATED:20220506T145445Z
LAST-MODIFIED:20220513T152214Z
UID:4665-1658080800-1658091600@wellwoodcrabs.com
SUMMARY:WW How's My Hat
DESCRIPTION:E00
URL:https://wellwoodcrabs.com/event/ww-hows-my-hat-6/
LOCATION:Wellwood
END:VEVENT
BEGIN:VEVENT
DTSTART;TZID=America/New_York:20220717T180000
DTEND;TZID=America/New_York:20220717T210000
DTSTAMP:20260421T160020
CREATED:20220506T145445Z
LAST-MODIFIED:20220513T152214Z
UID:4666-1658080800-1658091600@wellwoodcrabs.com
SUMMARY:RS AJ Love
DESCRIPTION:BBE
URL:https://wellwoodcrabs.com/event/rs-aj-love-12/
LOCATION:River Shack\, 523 Water Street\, Charlestown\, MD\, 21914\, United States
END:VEVENT
BEGIN:VEVENT
DTSTART;TZID=America/New_York:20220716T190000
DTEND;TZID=America/New_York:20220716T230000
DTSTAMP:20260421T160020
CREATED:20220506T145445Z
LAST-MODIFIED:20220513T152214Z
UID:4664-1657998000-1658012400@wellwoodcrabs.com
SUMMARY:WW Acoustically Sound
DESCRIPTION:D00
URL:https://wellwoodcrabs.com/event/ww-acoustically-sound-8/
LOCATION:Wellwood
END:VEVENT
BEGIN:VEVENT
DTSTART;TZID=America/New_York:20220716T183000
DTEND;TZID=America/New_York:20220716T213000
DTSTAMP:20260421T160020
CREATED:20220506T145445Z
LAST-MODIFIED:20220513T152214Z
UID:4663-1657996200-1658007000@wellwoodcrabs.com
SUMMARY:Exit-93 (Duo)
DESCRIPTION:D00
URL:https://wellwoodcrabs.com/event/exit-93-duo/
LOCATION:River Shack\, 523 Water Street\, Charlestown\, MD\, 21914\, United States
END:VEVENT
BEGIN:VEVENT
DTSTART;TZID=America/New_York:20220715T183000
DTEND;TZID=America/New_York:20220715T223000
DTSTAMP:20260421T160020
CREATED:20220506T145445Z
LAST-MODIFIED:20220513T152214Z
UID:4662-1657909800-1657924200@wellwoodcrabs.com
SUMMARY:WW Breeze Band
DESCRIPTION:GE0
URL:https://wellwoodcrabs.com/event/ww-breeze-band-7/
LOCATION:Wellwood
END:VEVENT
BEGIN:VEVENT
DTSTART;TZID=America/New_York:20220715T183000
DTEND;TZID=America/New_York:20220715T213000
DTSTAMP:20260421T160020
CREATED:20220506T145445Z
LAST-MODIFIED:20220513T152214Z
UID:4661-1657909800-1657920600@wellwoodcrabs.com
SUMMARY:RS Stage Left
DESCRIPTION:F00
URL:https://wellwoodcrabs.com/event/rs-stage-left/
LOCATION:River Shack\, 523 Water Street\, Charlestown\, MD\, 21914\, United States
END:VEVENT
BEGIN:VEVENT
DTSTART;TZID=America/New_York:20220714T180000
DTEND;TZID=America/New_York:20220714T210000
DTSTAMP:20260421T160020
CREATED:20220506T145445Z
LAST-MODIFIED:20220513T152214Z
UID:4660-1657821600-1657832400@wellwoodcrabs.com
SUMMARY:WW Conley & Watson
DESCRIPTION:CE0
URL:https://wellwoodcrabs.com/event/ww-conley-watson-15/
LOCATION:Wellwood
END:VEVENT
BEGIN:VEVENT
DTSTART;TZID=America/New_York:20220713T180000
DTEND;TZID=America/New_York:20220713T210000
DTSTAMP:20260421T160020
CREATED:20220506T145445Z
LAST-MODIFIED:20220513T152214Z
UID:4659-1657735200-1657746000@wellwoodcrabs.com
SUMMARY:WW Open Mic with Box Turtle Bob
DESCRIPTION:AE0
URL:https://wellwoodcrabs.com/event/ww-open-mic-with-box-turtle-bob-7/
LOCATION:Wellwood
END:VEVENT
BEGIN:VEVENT
DTSTART;TZID=America/New_York:20220712T180000
DTEND;TZID=America/New_York:20220712T210000
DTSTAMP:20260421T160020
CREATED:20220506T145445Z
LAST-MODIFIED:20220513T152214Z
UID:4658-1657648800-1657659600@wellwoodcrabs.com
SUMMARY:WW John Pollard
DESCRIPTION:C00
URL:https://wellwoodcrabs.com/event/ww-john-pollard-2/
LOCATION:Wellwood
END:VEVENT
BEGIN:VEVENT
DTSTART;TZID=America/New_York:20220711T180000
DTEND;TZID=America/New_York:20220711T210000
DTSTAMP:20260421T160020
CREATED:20220701T182913Z
LAST-MODIFIED:20220701T182913Z
UID:4967-1657562400-1657573200@wellwoodcrabs.com
SUMMARY:RS - Red Toad Connection
DESCRIPTION:
URL:https://wellwoodcrabs.com/event/rs-red-toad-connection-2/
CATEGORIES:Music
END:VEVENT
BEGIN:VEVENT
DTSTART;TZID=America/New_York:20220710T180000
DTEND;TZID=America/New_York:20220710T210000
DTSTAMP:20260421T160020
CREATED:20220506T145445Z
LAST-MODIFIED:20220513T152214Z
UID:4656-1657476000-1657486800@wellwoodcrabs.com
SUMMARY:WW Outta Toon Band
DESCRIPTION:F00
URL:https://wellwoodcrabs.com/event/ww-outta-toon-band-2/
LOCATION:Wellwood
END:VEVENT
BEGIN:VEVENT
DTSTART;TZID=America/New_York:20220710T180000
DTEND;TZID=America/New_York:20220710T210000
DTSTAMP:20260421T160020
CREATED:20220506T145445Z
LAST-MODIFIED:20220513T152214Z
UID:4657-1657476000-1657486800@wellwoodcrabs.com
SUMMARY:RS Rick Sommers
DESCRIPTION:BE0
URL:https://wellwoodcrabs.com/event/rs-rick-sommers/
LOCATION:River Shack\, 523 Water Street\, Charlestown\, MD\, 21914\, United States
END:VEVENT
BEGIN:VEVENT
DTSTART;TZID=America/New_York:20220709T190000
DTEND;TZID=America/New_York:20220709T230000
DTSTAMP:20260421T160020
CREATED:20220506T145445Z
LAST-MODIFIED:20220513T152214Z
UID:4654-1657393200-1657407600@wellwoodcrabs.com
SUMMARY:WW Syde 2
DESCRIPTION:F00
URL:https://wellwoodcrabs.com/event/ww-syde-2-2/
LOCATION:Wellwood
END:VEVENT
BEGIN:VEVENT
DTSTART;TZID=America/New_York:20220709T183000
DTEND;TZID=America/New_York:20220709T213000
DTSTAMP:20260421T160020
CREATED:20220506T145445Z
LAST-MODIFIED:20220513T152214Z
UID:4655-1657391400-1657402200@wellwoodcrabs.com
SUMMARY:RS How's My Hat
DESCRIPTION:E00
URL:https://wellwoodcrabs.com/event/rs-hows-my-hat-5/
LOCATION:River Shack\, 523 Water Street\, Charlestown\, MD\, 21914\, United States
END:VEVENT
BEGIN:VEVENT
DTSTART;TZID=America/New_York:20220708T183000
DTEND;TZID=America/New_York:20220708T223000
DTSTAMP:20260421T160020
CREATED:20220506T145445Z
LAST-MODIFIED:20220513T152213Z
UID:4653-1657305000-1657319400@wellwoodcrabs.com
SUMMARY:WW Bleech
DESCRIPTION:A000
URL:https://wellwoodcrabs.com/event/ww-bleech-11/
LOCATION:Wellwood
END:VEVENT
BEGIN:VEVENT
DTSTART;TZID=America/New_York:20220708T180000
DTEND;TZID=America/New_York:20220708T210000
DTSTAMP:20260421T160020
CREATED:20220506T145445Z
LAST-MODIFIED:20220513T152213Z
UID:4652-1657303200-1657314000@wellwoodcrabs.com
SUMMARY:RS AJ Love
DESCRIPTION:BBE
URL:https://wellwoodcrabs.com/event/rs-aj-love-11/
LOCATION:River Shack\, 523 Water Street\, Charlestown\, MD\, 21914\, United States
END:VEVENT
BEGIN:VEVENT
DTSTART;TZID=America/New_York:20220707T180000
DTEND;TZID=America/New_York:20220707T210000
DTSTAMP:20260421T160020
CREATED:20220506T145445Z
LAST-MODIFIED:20220513T152213Z
UID:4651-1657216800-1657227600@wellwoodcrabs.com
SUMMARY:WW Rick & Connie
DESCRIPTION:D00
URL:https://wellwoodcrabs.com/event/ww-rick-connie/
LOCATION:Wellwood
END:VEVENT
BEGIN:VEVENT
DTSTART;TZID=America/New_York:20220706T180000
DTEND;TZID=America/New_York:20220706T210000
DTSTAMP:20260421T160020
CREATED:20220506T145444Z
LAST-MODIFIED:20220531T155806Z
UID:4650-1657130400-1657141200@wellwoodcrabs.com
SUMMARY:WW Take 2
DESCRIPTION:AE0
URL:https://wellwoodcrabs.com/event/ww-open-mic-with-box-turtle-bob-6/
LOCATION:Wellwood
END:VEVENT
BEGIN:VEVENT
DTSTART;TZID=America/New_York:20220705T180000
DTEND;TZID=America/New_York:20220705T210000
DTSTAMP:20260421T160020
CREATED:20220506T145444Z
LAST-MODIFIED:20220513T152213Z
UID:4649-1657044000-1657054800@wellwoodcrabs.com
SUMMARY:WW Dub Glen
DESCRIPTION:BB0
URL:https://wellwoodcrabs.com/event/ww-dub-glen-4/
LOCATION:Wellwood
END:VEVENT
BEGIN:VEVENT
DTSTART;TZID=America/New_York:20220703T180000
DTEND;TZID=America/New_York:20220703T210000
DTSTAMP:20260421T160020
CREATED:20220506T145444Z
LAST-MODIFIED:20220513T152213Z
UID:4647-1656871200-1656882000@wellwoodcrabs.com
SUMMARY:RS New Direction
DESCRIPTION:G00
URL:https://wellwoodcrabs.com/event/rs-new-direction-2/
LOCATION:River Shack\, 523 Water Street\, Charlestown\, MD\, 21914\, United States
END:VEVENT
BEGIN:VEVENT
DTSTART;TZID=America/New_York:20220703T180000
DTEND;TZID=America/New_York:20220703T210000
DTSTAMP:20260421T160020
CREATED:20220506T145444Z
LAST-MODIFIED:20220701T173210Z
UID:4648-1656871200-1656882000@wellwoodcrabs.com
SUMMARY:WW The Jimmys
DESCRIPTION:GE0
URL:https://wellwoodcrabs.com/event/ww-breeze-band-6/
LOCATION:Wellwood
CATEGORIES:Music
END:VEVENT
END:VCALENDAR