BEGIN:VCALENDAR
VERSION:2.0
PRODID:-//The River Shack - ECPv6.15.20//NONSGML v1.0//EN
CALSCALE:GREGORIAN
METHOD:PUBLISH
X-WR-CALNAME:The River Shack
X-ORIGINAL-URL:https://wellwoodcrabs.com
X-WR-CALDESC:Events for The River Shack
REFRESH-INTERVAL;VALUE=DURATION:PT1H
X-Robots-Tag:noindex
X-PUBLISHED-TTL:PT1H
BEGIN:VTIMEZONE
TZID:America/New_York
BEGIN:DAYLIGHT
TZOFFSETFROM:-0500
TZOFFSETTO:-0400
TZNAME:EDT
DTSTART:20250309T070000
END:DAYLIGHT
BEGIN:STANDARD
TZOFFSETFROM:-0400
TZOFFSETTO:-0500
TZNAME:EST
DTSTART:20251102T060000
END:STANDARD
BEGIN:DAYLIGHT
TZOFFSETFROM:-0500
TZOFFSETTO:-0400
TZNAME:EDT
DTSTART:20260308T070000
END:DAYLIGHT
BEGIN:STANDARD
TZOFFSETFROM:-0400
TZOFFSETTO:-0500
TZNAME:EST
DTSTART:20261101T060000
END:STANDARD
BEGIN:DAYLIGHT
TZOFFSETFROM:-0500
TZOFFSETTO:-0400
TZNAME:EDT
DTSTART:20270314T070000
END:DAYLIGHT
BEGIN:STANDARD
TZOFFSETFROM:-0400
TZOFFSETTO:-0500
TZNAME:EST
DTSTART:20271107T060000
END:STANDARD
END:VTIMEZONE
BEGIN:VEVENT
DTSTART;TZID=America/New_York:20260225T080000
DTEND;TZID=America/New_York:20260301T170000
DTSTAMP:20260419T114831
CREATED:20260224T162534Z
LAST-MODIFIED:20260224T162534Z
UID:7258-1772006400-1772384400@wellwoodcrabs.com
SUMMARY:Weekly Chef's Specials
DESCRIPTION:
URL:https://wellwoodcrabs.com/event/weekly-chefs-specials/
CATEGORIES:weekly special
ATTACH;FMTTYPE=image/png:https://wellwoodcrabs.com/wp-content/uploads/2026/02/2-20-26-specials.pdf.png
END:VEVENT
BEGIN:VEVENT
DTSTART;VALUE=DATE:20260301
DTEND;VALUE=DATE:20260302
DTSTAMP:20260419T114831
CREATED:20260222T164148Z
LAST-MODIFIED:20260222T164148Z
UID:7232-1772323200-1772409599@wellwoodcrabs.com
SUMMARY:Sunday Funday
DESCRIPTION:
URL:https://wellwoodcrabs.com/event/sunday-funday-68/
CATEGORIES:weekly special
ATTACH;FMTTYPE=image/jpeg:https://wellwoodcrabs.com/wp-content/uploads/2026/02/Sunday-Funday.jpg
END:VEVENT
BEGIN:VEVENT
DTSTART;VALUE=DATE:20260304
DTEND;VALUE=DATE:20260305
DTSTAMP:20260419T114831
CREATED:20260227T144926Z
LAST-MODIFIED:20260303T143701Z
UID:7273-1772582400-1772668799@wellwoodcrabs.com
SUMMARY:Winter Wednesday Dine-IN or To Go Home-Style Meals
DESCRIPTION:ORDER TO GO HERE
URL:https://wellwoodcrabs.com/event/winter-wednesday-dine-in-or-to-go-home-style-meals-8/
CATEGORIES:weekly special
ATTACH;FMTTYPE=image/png:https://wellwoodcrabs.com/wp-content/uploads/2026/01/Winter-Wednesday-Menu2.png
END:VEVENT
BEGIN:VEVENT
DTSTART;TZID=America/New_York:20260304T150000
DTEND;TZID=America/New_York:20260306T180000
DTSTAMP:20260419T114831
CREATED:20260222T164600Z
LAST-MODIFIED:20260222T165012Z
UID:7243-1772636400-1772820000@wellwoodcrabs.com
SUMMARY:Happy Hour at the Wellwood
DESCRIPTION:
URL:https://wellwoodcrabs.com/event/happy-hour-at-the-wellwood-79/
CATEGORIES:weekly special
ATTACH;FMTTYPE=image/png:https://wellwoodcrabs.com/wp-content/uploads/2025/02/Happy-Hour-Special.png
END:VEVENT
BEGIN:VEVENT
DTSTART;VALUE=DATE:20260305
DTEND;VALUE=DATE:20260306
DTSTAMP:20260419T114831
CREATED:20260227T144524Z
LAST-MODIFIED:20260227T144525Z
UID:7264-1772668800-1772755199@wellwoodcrabs.com
SUMMARY:Seafood Steamer Thursday
DESCRIPTION:
URL:https://wellwoodcrabs.com/event/seafood-steamer-thursday-9/
CATEGORIES:weekly special
ATTACH;FMTTYPE=image/png:https://wellwoodcrabs.com/wp-content/uploads/2026/02/Seafood-Steamer-Slider-March.png
END:VEVENT
BEGIN:VEVENT
DTSTART;VALUE=DATE:20260308
DTEND;VALUE=DATE:20260309
DTSTAMP:20260419T114831
CREATED:20260222T164213Z
LAST-MODIFIED:20260222T164213Z
UID:7235-1772928000-1773014399@wellwoodcrabs.com
SUMMARY:Sunday Funday
DESCRIPTION:
URL:https://wellwoodcrabs.com/event/sunday-funday-69/
CATEGORIES:weekly special
ATTACH;FMTTYPE=image/jpeg:https://wellwoodcrabs.com/wp-content/uploads/2026/02/Sunday-Funday.jpg
END:VEVENT
BEGIN:VEVENT
DTSTART;VALUE=DATE:20260311
DTEND;VALUE=DATE:20260312
DTSTAMP:20260419T114831
CREATED:20260227T145008Z
LAST-MODIFIED:20260310T141507Z
UID:7275-1773187200-1773273599@wellwoodcrabs.com
SUMMARY:March Wednesday Home-Style Meals
DESCRIPTION:ORDER TO GO HERE
URL:https://wellwoodcrabs.com/event/winter-wednesday-dine-in-or-to-go-home-style-meals-9/
CATEGORIES:weekly special
ATTACH;FMTTYPE=image/png:https://wellwoodcrabs.com/wp-content/uploads/2026/03/March-Wednesday-Home-Style-Meals.png
END:VEVENT
BEGIN:VEVENT
DTSTART;TZID=America/New_York:20260311T150000
DTEND;TZID=America/New_York:20260313T180000
DTSTAMP:20260419T114831
CREATED:20260222T165059Z
LAST-MODIFIED:20260222T165059Z
UID:7245-1773241200-1773424800@wellwoodcrabs.com
SUMMARY:Happy Hour at the Wellwood
DESCRIPTION:
URL:https://wellwoodcrabs.com/event/happy-hour-at-the-wellwood-80/
CATEGORIES:weekly special
ATTACH;FMTTYPE=image/png:https://wellwoodcrabs.com/wp-content/uploads/2025/02/Happy-Hour-Special.png
END:VEVENT
BEGIN:VEVENT
DTSTART;VALUE=DATE:20260312
DTEND;VALUE=DATE:20260313
DTSTAMP:20260419T114831
CREATED:20260227T144559Z
LAST-MODIFIED:20260227T144559Z
UID:7266-1773273600-1773359999@wellwoodcrabs.com
SUMMARY:Seafood Steamer Thursday
DESCRIPTION:
URL:https://wellwoodcrabs.com/event/seafood-steamer-thursday-10/
CATEGORIES:weekly special
ATTACH;FMTTYPE=image/png:https://wellwoodcrabs.com/wp-content/uploads/2026/02/Seafood-Steamer-Slider-March.png
END:VEVENT
BEGIN:VEVENT
DTSTART;VALUE=DATE:20260315
DTEND;VALUE=DATE:20260316
DTSTAMP:20260419T114831
CREATED:20260222T164257Z
LAST-MODIFIED:20260222T164257Z
UID:7237-1773532800-1773619199@wellwoodcrabs.com
SUMMARY:Sunday Funday
DESCRIPTION:
URL:https://wellwoodcrabs.com/event/sunday-funday-70/
CATEGORIES:weekly special
ATTACH;FMTTYPE=image/jpeg:https://wellwoodcrabs.com/wp-content/uploads/2026/02/Sunday-Funday.jpg
END:VEVENT
BEGIN:VEVENT
DTSTART;VALUE=DATE:20260318
DTEND;VALUE=DATE:20260319
DTSTAMP:20260419T114831
CREATED:20260227T145123Z
LAST-MODIFIED:20260316T163919Z
UID:7277-1773792000-1773878399@wellwoodcrabs.com
SUMMARY:March Wednesday Home-Style Meals
DESCRIPTION:ORDER TO GO HERE
URL:https://wellwoodcrabs.com/event/winter-wednesday-dine-in-or-to-go-home-style-meals-10/
CATEGORIES:weekly special
ATTACH;FMTTYPE=image/png:https://wellwoodcrabs.com/wp-content/uploads/2026/03/March-Wednesday-Home-Style-Meals.png
END:VEVENT
BEGIN:VEVENT
DTSTART;TZID=America/New_York:20260318T150000
DTEND;TZID=America/New_York:20260320T180000
DTSTAMP:20260419T114831
CREATED:20260222T165146Z
LAST-MODIFIED:20260222T165147Z
UID:7247-1773846000-1774029600@wellwoodcrabs.com
SUMMARY:Happy Hour at the Wellwood
DESCRIPTION:
URL:https://wellwoodcrabs.com/event/happy-hour-at-the-wellwood-81/
CATEGORIES:weekly special
ATTACH;FMTTYPE=image/png:https://wellwoodcrabs.com/wp-content/uploads/2025/02/Happy-Hour-Special.png
END:VEVENT
BEGIN:VEVENT
DTSTART;VALUE=DATE:20260319
DTEND;VALUE=DATE:20260320
DTSTAMP:20260419T114831
CREATED:20260227T144657Z
LAST-MODIFIED:20260227T144657Z
UID:7269-1773878400-1773964799@wellwoodcrabs.com
SUMMARY:Seafood Steamer Thursday
DESCRIPTION:
URL:https://wellwoodcrabs.com/event/seafood-steamer-thursday-11/
CATEGORIES:weekly special
ATTACH;FMTTYPE=image/png:https://wellwoodcrabs.com/wp-content/uploads/2026/02/Seafood-Steamer-Slider-March.png
END:VEVENT
BEGIN:VEVENT
DTSTART;VALUE=DATE:20260322
DTEND;VALUE=DATE:20260323
DTSTAMP:20260419T114831
CREATED:20260222T164326Z
LAST-MODIFIED:20260222T164326Z
UID:7239-1774137600-1774223999@wellwoodcrabs.com
SUMMARY:Sunday Funday
DESCRIPTION:
URL:https://wellwoodcrabs.com/event/sunday-funday-71/
CATEGORIES:weekly special
ATTACH;FMTTYPE=image/jpeg:https://wellwoodcrabs.com/wp-content/uploads/2026/02/Sunday-Funday.jpg
END:VEVENT
BEGIN:VEVENT
DTSTART;VALUE=DATE:20260325
DTEND;VALUE=DATE:20260326
DTSTAMP:20260419T114831
CREATED:20260227T145317Z
LAST-MODIFIED:20260323T202517Z
UID:7283-1774396800-1774483199@wellwoodcrabs.com
SUMMARY:March Wednesday Home-Style Meals
DESCRIPTION:ORDER TO GO HERE
URL:https://wellwoodcrabs.com/event/winter-wednesday-dine-in-or-to-go-home-style-meals-11/
CATEGORIES:weekly special
ATTACH;FMTTYPE=image/png:https://wellwoodcrabs.com/wp-content/uploads/2026/03/March-Wednesday-Home-Style-Meals.png
END:VEVENT
BEGIN:VEVENT
DTSTART;TZID=America/New_York:20260325T150000
DTEND;TZID=America/New_York:20260327T180000
DTSTAMP:20260419T114831
CREATED:20260227T145559Z
LAST-MODIFIED:20260227T145559Z
UID:7286-1774450800-1774634400@wellwoodcrabs.com
SUMMARY:Happy Hour at the Wellwood
DESCRIPTION:
URL:https://wellwoodcrabs.com/event/happy-hour-at-the-wellwood-83/
CATEGORIES:weekly special
ATTACH;FMTTYPE=image/png:https://wellwoodcrabs.com/wp-content/uploads/2025/02/Happy-Hour-Special.png
END:VEVENT
BEGIN:VEVENT
DTSTART;VALUE=DATE:20260326
DTEND;VALUE=DATE:20260327
DTSTAMP:20260419T114831
CREATED:20260227T144744Z
LAST-MODIFIED:20260227T144744Z
UID:7271-1774483200-1774569599@wellwoodcrabs.com
SUMMARY:Seafood Steamer Thursday
DESCRIPTION:
URL:https://wellwoodcrabs.com/event/seafood-steamer-thursday-12/
CATEGORIES:weekly special
ATTACH;FMTTYPE=image/png:https://wellwoodcrabs.com/wp-content/uploads/2026/02/Seafood-Steamer-Slider-March.png
END:VEVENT
BEGIN:VEVENT
DTSTART;VALUE=DATE:20260329
DTEND;VALUE=DATE:20260330
DTSTAMP:20260419T114831
CREATED:20260222T164348Z
LAST-MODIFIED:20260222T164348Z
UID:7241-1774742400-1774828799@wellwoodcrabs.com
SUMMARY:Sunday Funday
DESCRIPTION:
URL:https://wellwoodcrabs.com/event/sunday-funday-72/
CATEGORIES:weekly special
ATTACH;FMTTYPE=image/jpeg:https://wellwoodcrabs.com/wp-content/uploads/2026/02/Sunday-Funday.jpg
END:VEVENT
BEGIN:VEVENT
DTSTART;VALUE=DATE:20260331
DTEND;VALUE=DATE:20260406
DTSTAMP:20260419T114831
CREATED:20260323T163122Z
LAST-MODIFIED:20260408T135540Z
UID:7565-1774915200-1775433599@wellwoodcrabs.com
SUMMARY:Weekly Chef's Menu
DESCRIPTION:
URL:https://wellwoodcrabs.com/event/weekly-chefs-menu/
CATEGORIES:weekly special
ATTACH;FMTTYPE=image/jpeg:https://wellwoodcrabs.com/wp-content/uploads/2026/03/Chef-Specials-3.21.26.jpg
END:VEVENT
BEGIN:VEVENT
DTSTART;TZID=America/New_York:20260331T150000
DTEND;TZID=America/New_York:20260403T180000
DTSTAMP:20260419T114831
CREATED:20260222T165251Z
LAST-MODIFIED:20260331T142357Z
UID:7249-1774969200-1775239200@wellwoodcrabs.com
SUMMARY:Happy Hour at the Wellwood
DESCRIPTION:
URL:https://wellwoodcrabs.com/event/happy-hour-at-the-wellwood-82/
CATEGORIES:weekly special
ATTACH;FMTTYPE=image/png:https://wellwoodcrabs.com/wp-content/uploads/2025/02/Happy-Hour-Special.png
END:VEVENT
END:VCALENDAR