BEGIN:VCALENDAR
VERSION:2.0
PRODID:-//The River Shack - ECPv6.15.20//NONSGML v1.0//EN
CALSCALE:GREGORIAN
METHOD:PUBLISH
X-ORIGINAL-URL:https://wellwoodcrabs.com
X-WR-CALDESC:Events for The River Shack
REFRESH-INTERVAL;VALUE=DURATION:PT1H
X-Robots-Tag:noindex
X-PUBLISHED-TTL:PT1H
BEGIN:VTIMEZONE
TZID:America/New_York
BEGIN:DAYLIGHT
TZOFFSETFROM:-0500
TZOFFSETTO:-0400
TZNAME:EDT
DTSTART:20240310T070000
END:DAYLIGHT
BEGIN:STANDARD
TZOFFSETFROM:-0400
TZOFFSETTO:-0500
TZNAME:EST
DTSTART:20241103T060000
END:STANDARD
BEGIN:DAYLIGHT
TZOFFSETFROM:-0500
TZOFFSETTO:-0400
TZNAME:EDT
DTSTART:20250309T070000
END:DAYLIGHT
BEGIN:STANDARD
TZOFFSETFROM:-0400
TZOFFSETTO:-0500
TZNAME:EST
DTSTART:20251102T060000
END:STANDARD
BEGIN:DAYLIGHT
TZOFFSETFROM:-0500
TZOFFSETTO:-0400
TZNAME:EDT
DTSTART:20260308T070000
END:DAYLIGHT
BEGIN:STANDARD
TZOFFSETFROM:-0400
TZOFFSETTO:-0500
TZNAME:EST
DTSTART:20261101T060000
END:STANDARD
END:VTIMEZONE
BEGIN:VEVENT
DTSTART;VALUE=DATE:20250720
DTEND;VALUE=DATE:20250721
DTSTAMP:20260419T113009
CREATED:20250521T153744Z
LAST-MODIFIED:20250713T035211Z
UID:6738-1752969600-1753055999@wellwoodcrabs.com
SUMMARY:Sunday Funday
DESCRIPTION:
URL:https://wellwoodcrabs.com/event/sunday-funday-35/
CATEGORIES:weekly special
ATTACH;FMTTYPE=image/png:https://wellwoodcrabs.com/wp-content/uploads/2025/07/sunday-funday-at-the-wellwood-7.png
END:VEVENT
BEGIN:VEVENT
DTSTART;TZID=America/New_York:20250720T173000
DTEND;TZID=America/New_York:20250720T203000
DTSTAMP:20260419T113009
CREATED:20250128T152133Z
LAST-MODIFIED:20250714T224707Z
UID:6318-1753032600-1753043400@wellwoodcrabs.com
SUMMARY:RS New Direction
DESCRIPTION:F00
URL:https://wellwoodcrabs.com/event/rs-new-direction-6/
CATEGORIES:Music
END:VEVENT
BEGIN:VEVENT
DTSTART;TZID=America/New_York:20250720T173000
DTEND;TZID=America/New_York:20250720T213000
DTSTAMP:20260419T113009
CREATED:20250128T152133Z
LAST-MODIFIED:20250714T224707Z
UID:6319-1753032600-1753047000@wellwoodcrabs.com
SUMMARY:WW Mark & da Sharks
DESCRIPTION:GE0
URL:https://wellwoodcrabs.com/event/ww-mark-da-sharks-2/
CATEGORIES:Music
END:VEVENT
END:VCALENDAR