BEGIN:VCALENDAR
VERSION:2.0
PRODID:-//The River Shack - ECPv6.15.20//NONSGML v1.0//EN
CALSCALE:GREGORIAN
METHOD:PUBLISH
X-WR-CALNAME:The River Shack
X-ORIGINAL-URL:https://wellwoodcrabs.com
X-WR-CALDESC:Events for The River Shack
REFRESH-INTERVAL;VALUE=DURATION:PT1H
X-Robots-Tag:noindex
X-PUBLISHED-TTL:PT1H
BEGIN:VTIMEZONE
TZID:America/New_York
BEGIN:DAYLIGHT
TZOFFSETFROM:-0500
TZOFFSETTO:-0400
TZNAME:EDT
DTSTART:20240310T070000
END:DAYLIGHT
BEGIN:STANDARD
TZOFFSETFROM:-0400
TZOFFSETTO:-0500
TZNAME:EST
DTSTART:20241103T060000
END:STANDARD
BEGIN:DAYLIGHT
TZOFFSETFROM:-0500
TZOFFSETTO:-0400
TZNAME:EDT
DTSTART:20250309T070000
END:DAYLIGHT
BEGIN:STANDARD
TZOFFSETFROM:-0400
TZOFFSETTO:-0500
TZNAME:EST
DTSTART:20251102T060000
END:STANDARD
BEGIN:DAYLIGHT
TZOFFSETFROM:-0500
TZOFFSETTO:-0400
TZNAME:EDT
DTSTART:20260308T070000
END:DAYLIGHT
BEGIN:STANDARD
TZOFFSETFROM:-0400
TZOFFSETTO:-0500
TZNAME:EST
DTSTART:20261101T060000
END:STANDARD
END:VTIMEZONE
BEGIN:VEVENT
DTSTART;TZID=America/New_York:20250708T150000
DTEND;TZID=America/New_York:20250711T180000
DTSTAMP:20260419T112750
CREATED:20250521T154534Z
LAST-MODIFIED:20250521T154535Z
UID:6754-1751986800-1752256800@wellwoodcrabs.com
SUMMARY:Happy Hour at the Wellwood
DESCRIPTION:
URL:https://wellwoodcrabs.com/event/happy-hour-at-the-wellwood-43/
CATEGORIES:weekly special
ATTACH;FMTTYPE=image/png:https://wellwoodcrabs.com/wp-content/uploads/2025/02/Happy-Hour-Special.png
END:VEVENT
BEGIN:VEVENT
DTSTART;TZID=America/New_York:20250711T183000
DTEND;TZID=America/New_York:20250711T213000
DTSTAMP:20260419T112750
CREATED:20250128T152132Z
LAST-MODIFIED:20250609T171749Z
UID:6308-1752258600-1752269400@wellwoodcrabs.com
SUMMARY:RS Scott Erickson
DESCRIPTION:C00
URL:https://wellwoodcrabs.com/event/rs-scott-erickson-2/
CATEGORIES:Music
END:VEVENT
BEGIN:VEVENT
DTSTART;TZID=America/New_York:20250711T183000
DTEND;TZID=America/New_York:20250711T223000
DTSTAMP:20260419T112750
CREATED:20250128T152132Z
LAST-MODIFIED:20250609T171749Z
UID:6307-1752258600-1752273000@wellwoodcrabs.com
SUMMARY:WW BAD ALIBI
DESCRIPTION:G00
URL:https://wellwoodcrabs.com/event/ww-bad-alibi-2/
CATEGORIES:Music
END:VEVENT
END:VCALENDAR