BEGIN:VCALENDAR
VERSION:2.0
PRODID:-//The River Shack - ECPv6.15.20//NONSGML v1.0//EN
CALSCALE:GREGORIAN
METHOD:PUBLISH
X-ORIGINAL-URL:https://wellwoodcrabs.com
X-WR-CALDESC:Events for The River Shack
REFRESH-INTERVAL;VALUE=DURATION:PT1H
X-Robots-Tag:noindex
X-PUBLISHED-TTL:PT1H
BEGIN:VTIMEZONE
TZID:America/New_York
BEGIN:DAYLIGHT
TZOFFSETFROM:-0500
TZOFFSETTO:-0400
TZNAME:EDT
DTSTART:20240310T070000
END:DAYLIGHT
BEGIN:STANDARD
TZOFFSETFROM:-0400
TZOFFSETTO:-0500
TZNAME:EST
DTSTART:20241103T060000
END:STANDARD
BEGIN:DAYLIGHT
TZOFFSETFROM:-0500
TZOFFSETTO:-0400
TZNAME:EDT
DTSTART:20250309T070000
END:DAYLIGHT
BEGIN:STANDARD
TZOFFSETFROM:-0400
TZOFFSETTO:-0500
TZNAME:EST
DTSTART:20251102T060000
END:STANDARD
BEGIN:DAYLIGHT
TZOFFSETFROM:-0500
TZOFFSETTO:-0400
TZNAME:EDT
DTSTART:20260308T070000
END:DAYLIGHT
BEGIN:STANDARD
TZOFFSETFROM:-0400
TZOFFSETTO:-0500
TZNAME:EST
DTSTART:20261101T060000
END:STANDARD
END:VTIMEZONE
BEGIN:VEVENT
DTSTART;VALUE=DATE:20250615
DTEND;VALUE=DATE:20250616
DTSTAMP:20260419T125351
CREATED:20250521T153206Z
LAST-MODIFIED:20250609T172553Z
UID:6728-1749945600-1750031999@wellwoodcrabs.com
SUMMARY:Sunday Funday
DESCRIPTION:
URL:https://wellwoodcrabs.com/event/sunday-funday-30/
CATEGORIES:weekly special
ATTACH;FMTTYPE=image/png:https://wellwoodcrabs.com/wp-content/uploads/2025/05/sunday-funday-at-the-wellwood-.png
END:VEVENT
BEGIN:VEVENT
DTSTART;TZID=America/New_York:20250615T080000
DTEND;TZID=America/New_York:20250615T170000
DTSTAMP:20260419T125351
CREATED:20250521T152803Z
LAST-MODIFIED:20250609T172645Z
UID:6722-1749974400-1750006800@wellwoodcrabs.com
SUMMARY:Sunday Funday
DESCRIPTION:
URL:https://wellwoodcrabs.com/event/sunday-funday-28/
CATEGORIES:weekly special
ATTACH;FMTTYPE=image/png:https://wellwoodcrabs.com/wp-content/uploads/2025/05/sunday-funday-at-the-wellwood-.png
END:VEVENT
BEGIN:VEVENT
DTSTART;TZID=America/New_York:20250615T173000
DTEND;TZID=America/New_York:20250615T203000
DTSTAMP:20260419T125351
CREATED:20250128T152130Z
LAST-MODIFIED:20250609T171747Z
UID:6287-1750008600-1750019400@wellwoodcrabs.com
SUMMARY:RS New Direction
DESCRIPTION:F00
URL:https://wellwoodcrabs.com/event/rs-new-direction-4/
CATEGORIES:Music
END:VEVENT
BEGIN:VEVENT
DTSTART;TZID=America/New_York:20250615T173000
DTEND;TZID=America/New_York:20250615T213000
DTSTAMP:20260419T125351
CREATED:20250212T203018Z
LAST-MODIFIED:20250609T171747Z
UID:6499-1750008600-1750023000@wellwoodcrabs.com
SUMMARY:WW Chuggalug
DESCRIPTION:Full Band\nFE0
URL:https://wellwoodcrabs.com/event/ww-chuggalug/
CATEGORIES:Music
END:VEVENT
END:VCALENDAR