BEGIN:VCALENDAR
VERSION:2.0
PRODID:-//The River Shack - ECPv6.15.20//NONSGML v1.0//EN
CALSCALE:GREGORIAN
METHOD:PUBLISH
X-WR-CALNAME:The River Shack
X-ORIGINAL-URL:https://wellwoodcrabs.com
X-WR-CALDESC:Events for The River Shack
REFRESH-INTERVAL;VALUE=DURATION:PT1H
X-Robots-Tag:noindex
X-PUBLISHED-TTL:PT1H
BEGIN:VTIMEZONE
TZID:America/New_York
BEGIN:DAYLIGHT
TZOFFSETFROM:-0500
TZOFFSETTO:-0400
TZNAME:EDT
DTSTART:20240310T070000
END:DAYLIGHT
BEGIN:STANDARD
TZOFFSETFROM:-0400
TZOFFSETTO:-0500
TZNAME:EST
DTSTART:20241103T060000
END:STANDARD
BEGIN:DAYLIGHT
TZOFFSETFROM:-0500
TZOFFSETTO:-0400
TZNAME:EDT
DTSTART:20250309T070000
END:DAYLIGHT
BEGIN:STANDARD
TZOFFSETFROM:-0400
TZOFFSETTO:-0500
TZNAME:EST
DTSTART:20251102T060000
END:STANDARD
BEGIN:DAYLIGHT
TZOFFSETFROM:-0500
TZOFFSETTO:-0400
TZNAME:EDT
DTSTART:20260308T070000
END:DAYLIGHT
BEGIN:STANDARD
TZOFFSETFROM:-0400
TZOFFSETTO:-0500
TZNAME:EST
DTSTART:20261101T060000
END:STANDARD
END:VTIMEZONE
BEGIN:VEVENT
DTSTART;VALUE=DATE:20250601
DTEND;VALUE=DATE:20250602
DTSTAMP:20260419T124750
CREATED:20250521T152523Z
LAST-MODIFIED:20250521T152524Z
UID:6718-1748736000-1748822399@wellwoodcrabs.com
SUMMARY:Sunday Funday
DESCRIPTION:
URL:https://wellwoodcrabs.com/event/sunday-funday-26/
CATEGORIES:weekly special
ATTACH;FMTTYPE=image/jpeg:https://wellwoodcrabs.com/wp-content/uploads/2025/02/Sunday-Funday.jpg
END:VEVENT
BEGIN:VEVENT
DTSTART;TZID=America/New_York:20250601T113000
DTEND;TZID=America/New_York:20250601T150000
DTSTAMP:20260419T124750
CREATED:20250505T152049Z
LAST-MODIFIED:20250505T152049Z
UID:6684-1748777400-1748790000@wellwoodcrabs.com
SUMMARY:Jexxa and the Anti-Heroes Taylor Swift Tribute at the Wellwood Pavilion
DESCRIPTION:BUY TICKETS:\nhttps://www.eventbrite.com/e/jexxa-and-the-anti-heroes-taylor-swift-tribute-at-the-wellwood-pavilion-tickets-1352676956189
URL:https://wellwoodcrabs.com/event/jexxa-and-the-anti-heroes-taylor-swift-tribute-at-the-wellwood-pavilion/
CATEGORIES:special event,ticketed event
ATTACH;FMTTYPE=image/png:https://wellwoodcrabs.com/wp-content/uploads/2025/05/Taylor-Swift-Tribute-2.png
END:VEVENT
BEGIN:VEVENT
DTSTART;TZID=America/New_York:20250601T173000
DTEND;TZID=America/New_York:20250601T203000
DTSTAMP:20260419T124750
CREATED:20250128T152128Z
LAST-MODIFIED:20250516T185048Z
UID:6274-1748799000-1748809800@wellwoodcrabs.com
SUMMARY:RS Rick Sommers
DESCRIPTION:BE0
URL:https://wellwoodcrabs.com/event/rs-rick-sommers-2/
CATEGORIES:Music
END:VEVENT
BEGIN:VEVENT
DTSTART;TZID=America/New_York:20250601T173000
DTEND;TZID=America/New_York:20250601T213000
DTSTAMP:20260419T124750
CREATED:20250128T152128Z
LAST-MODIFIED:20250516T185049Z
UID:6273-1748799000-1748813400@wellwoodcrabs.com
SUMMARY:WW Mark & da Sharks
DESCRIPTION:GE0
URL:https://wellwoodcrabs.com/event/ww-mark-da-sharks/
CATEGORIES:Music
END:VEVENT
END:VCALENDAR