BEGIN:VCALENDAR
VERSION:2.0
PRODID:-//The River Shack - ECPv6.15.20//NONSGML v1.0//EN
CALSCALE:GREGORIAN
METHOD:PUBLISH
X-WR-CALNAME:The River Shack
X-ORIGINAL-URL:https://wellwoodcrabs.com
X-WR-CALDESC:Events for The River Shack
REFRESH-INTERVAL;VALUE=DURATION:PT1H
X-Robots-Tag:noindex
X-PUBLISHED-TTL:PT1H
BEGIN:VTIMEZONE
TZID:America/New_York
BEGIN:DAYLIGHT
TZOFFSETFROM:-0500
TZOFFSETTO:-0400
TZNAME:EDT
DTSTART:20240310T070000
END:DAYLIGHT
BEGIN:STANDARD
TZOFFSETFROM:-0400
TZOFFSETTO:-0500
TZNAME:EST
DTSTART:20241103T060000
END:STANDARD
BEGIN:DAYLIGHT
TZOFFSETFROM:-0500
TZOFFSETTO:-0400
TZNAME:EDT
DTSTART:20250309T070000
END:DAYLIGHT
BEGIN:STANDARD
TZOFFSETFROM:-0400
TZOFFSETTO:-0500
TZNAME:EST
DTSTART:20251102T060000
END:STANDARD
BEGIN:DAYLIGHT
TZOFFSETFROM:-0500
TZOFFSETTO:-0400
TZNAME:EDT
DTSTART:20260308T070000
END:DAYLIGHT
BEGIN:STANDARD
TZOFFSETFROM:-0400
TZOFFSETTO:-0500
TZNAME:EST
DTSTART:20261101T060000
END:STANDARD
END:VTIMEZONE
BEGIN:VEVENT
DTSTART;VALUE=DATE:20250525
DTEND;VALUE=DATE:20250526
DTSTAMP:20260419T225601
CREATED:20250521T152022Z
LAST-MODIFIED:20250521T152022Z
UID:6716-1748131200-1748217599@wellwoodcrabs.com
SUMMARY:Sunday Funday
DESCRIPTION:
URL:https://wellwoodcrabs.com/event/sunday-funday-25/
CATEGORIES:weekly special
ATTACH;FMTTYPE=image/jpeg:https://wellwoodcrabs.com/wp-content/uploads/2025/02/Sunday-Funday.jpg
END:VEVENT
BEGIN:VEVENT
DTSTART;TZID=America/New_York:20250525T173000
DTEND;TZID=America/New_York:20250525T203000
DTSTAMP:20260419T225601
CREATED:20250128T152128Z
LAST-MODIFIED:20250516T185048Z
UID:6267-1748194200-1748205000@wellwoodcrabs.com
SUMMARY:RS How's My Hat
DESCRIPTION:E00
URL:https://wellwoodcrabs.com/event/rs-hows-my-hat-8/
CATEGORIES:Music
END:VEVENT
BEGIN:VEVENT
DTSTART;TZID=America/New_York:20250525T173000
DTEND;TZID=America/New_York:20250525T213000
DTSTAMP:20260419T225601
CREATED:20250128T152128Z
LAST-MODIFIED:20250516T185048Z
UID:6266-1748194200-1748208600@wellwoodcrabs.com
SUMMARY:WW Crossroads
DESCRIPTION:F00
URL:https://wellwoodcrabs.com/event/ww-crossroads-4/
CATEGORIES:Music
END:VEVENT
END:VCALENDAR