BEGIN:VCALENDAR
VERSION:2.0
PRODID:-//The River Shack - ECPv6.15.20//NONSGML v1.0//EN
CALSCALE:GREGORIAN
METHOD:PUBLISH
X-ORIGINAL-URL:https://wellwoodcrabs.com
X-WR-CALDESC:Events for The River Shack
REFRESH-INTERVAL;VALUE=DURATION:PT1H
X-Robots-Tag:noindex
X-PUBLISHED-TTL:PT1H
BEGIN:VTIMEZONE
TZID:America/New_York
BEGIN:DAYLIGHT
TZOFFSETFROM:-0500
TZOFFSETTO:-0400
TZNAME:EDT
DTSTART:20240310T070000
END:DAYLIGHT
BEGIN:STANDARD
TZOFFSETFROM:-0400
TZOFFSETTO:-0500
TZNAME:EST
DTSTART:20241103T060000
END:STANDARD
BEGIN:DAYLIGHT
TZOFFSETFROM:-0500
TZOFFSETTO:-0400
TZNAME:EDT
DTSTART:20250309T070000
END:DAYLIGHT
BEGIN:STANDARD
TZOFFSETFROM:-0400
TZOFFSETTO:-0500
TZNAME:EST
DTSTART:20251102T060000
END:STANDARD
BEGIN:DAYLIGHT
TZOFFSETFROM:-0500
TZOFFSETTO:-0400
TZNAME:EDT
DTSTART:20260308T070000
END:DAYLIGHT
BEGIN:STANDARD
TZOFFSETFROM:-0400
TZOFFSETTO:-0500
TZNAME:EST
DTSTART:20261101T060000
END:STANDARD
END:VTIMEZONE
BEGIN:VEVENT
DTSTART;TZID=America/New_York:20250201T180000
DTEND;TZID=America/New_York:20250201T213000
DTSTAMP:20260419T101041
CREATED:20250107T155058Z
LAST-MODIFIED:20250107T155058Z
UID:6222-1738432800-1738445400@wellwoodcrabs.com
SUMMARY:Freedom Hills Therapeutic Riding Grand Gala
DESCRIPTION:We are excited to announce our annual Gala and Auction on February 1 at the Wellwood in Charlestown\, MD. This event promises delectable food\, a diverse array of auction items\, and an opportunity to connect with like-minded individuals who are passionate about making a positive impact. All proceeds will directly support athletes with disabilities\, at-risk youth\, and military veterans. By attending\, becoming a table captain\, donating auction items\, or sponsoring the event\, you play a crucial role in enhancing the lives of those who face daily challenges. Join us in fostering community and championing a worthy cause
URL:https://wellwoodcrabs.com/event/freedom-hills-therapeutic-riding-grand-gala/
CATEGORIES:special event
ATTACH;FMTTYPE=image/jpeg:https://wellwoodcrabs.com/wp-content/uploads/2025/01/Freedom-Hills-Therapeutic-Riding-is-holding-their-Gala-on-Feb-1.jpg
END:VEVENT
END:VCALENDAR